BEGIN:VCALENDAR
VERSION:2.0
PRODID:-//National CAP - ECPv6.15.20//NONSGML v1.0//EN
CALSCALE:GREGORIAN
METHOD:PUBLISH
X-ORIGINAL-URL:https://communityactionpartnership.com
X-WR-CALDESC:Events for National CAP
REFRESH-INTERVAL;VALUE=DURATION:PT1H
X-Robots-Tag:noindex
X-PUBLISHED-TTL:PT1H
BEGIN:VTIMEZONE
TZID:UTC
BEGIN:STANDARD
TZOFFSETFROM:+0000
TZOFFSETTO:+0000
TZNAME:UTC
DTSTART:20220101T000000
END:STANDARD
END:VTIMEZONE
BEGIN:VEVENT
DTSTART;TZID=UTC:20230612T120000
DTEND;TZID=UTC:20230612T130000
DTSTAMP:20260420T185101
CREATED:20230601T185313Z
LAST-MODIFIED:20230601T194112Z
UID:80056-1686571200-1686574800@communityactionpartnership.com
SUMMARY:The ABCs of Pathways to Excellence
DESCRIPTION:Wondering if your Community Action agency should embark on an Excellence journey? Interested in leading Excellence in your agency but not sure how to get started? \nThis free\, one-hour presentation and Q&A session can help answer your questions about NCAP’s Pathways to Excellence process.  The next opportunity to enroll in the Fall learning cohort for Pathways closes July 15\, making this the perfect time to get answers to your questions and set a plan for enrollment. \nWebinar participants will leave the session with a clear understanding of what is required for your agency to complete the Pathways Tiers\, the financial and human investments associated with involvement\, and the types of results agencies engaged in Pathways to Excellence report experiencing. NCAP’s Excellence Team will provide helpful tools\, including templates you can use to bring information about Pathways to your agency Governing Board\, funding partners\, and staff. \nSign up today and find out how you can be on the path to Excellence as early as July!  CLICK HERE TO REGISTER \n 
URL:https://communityactionpartnership.com/event/the-abcs-of-pathways-to-excellence/
CATEGORIES:Webinars
END:VEVENT
END:VCALENDAR