BEGIN:VCALENDAR
VERSION:2.0
PRODID:-//National CAP - ECPv6.15.20//NONSGML v1.0//EN
CALSCALE:GREGORIAN
METHOD:PUBLISH
X-ORIGINAL-URL:https://communityactionpartnership.com
X-WR-CALDESC:Events for National CAP
REFRESH-INTERVAL;VALUE=DURATION:PT1H
X-Robots-Tag:noindex
X-PUBLISHED-TTL:PT1H
BEGIN:VTIMEZONE
TZID:UTC
BEGIN:STANDARD
TZOFFSETFROM:+0000
TZOFFSETTO:+0000
TZNAME:UTC
DTSTART:20220101T000000
END:STANDARD
END:VTIMEZONE
BEGIN:VEVENT
DTSTART;VALUE=DATE:20230515
DTEND;VALUE=DATE:20230520
DTSTAMP:20260420T153924
CREATED:20230217T204734Z
LAST-MODIFIED:20230217T210156Z
UID:79417-1684108800-1684540799@communityactionpartnership.com
SUMMARY:Florida Association for Community Action (FACA) Annual Training Conference
DESCRIPTION:Orlando\, the City Beautiful\, will be the location of the Florida Association for Community Action’s 43rd Annual Training Conference\, hosted May 15-19\, 2023. \nSubscribe to FACA’s eNews by visiting faca.org to get the latest.
URL:https://communityactionpartnership.com/event/florida-association-for-community-action-faca-annual-training-conference/
END:VEVENT
BEGIN:VEVENT
DTSTART;TZID=UTC:20230517T140000
DTEND;TZID=UTC:20230517T150000
DTSTAMP:20260420T153924
CREATED:20230324T173723Z
LAST-MODIFIED:20230414T180159Z
UID:79618-1684332000-1684335600@communityactionpartnership.com
SUMMARY:Deepening CAA Engagement in Homeless Service Delivery: Why It Matters
DESCRIPTION:This session\, led by the National Alliance to End Homelessness\, will feature examples of how Community Action Agencies have greatly expanded their work on solving homelessness and the impact it has had in meeting both Community Action Agencies’ mission and the goals of homeless service systems. Speakers will provide an overview of lessons learned and share why they believe more Community Action Agencies should consider expanding their work to end homelessness. \nClick here to register for the webinar.
URL:https://communityactionpartnership.com/event/deepening-caa-engagement-in-homeless-service-delivery/
CATEGORIES:Webinars
END:VEVENT
END:VCALENDAR