BEGIN:VCALENDAR
VERSION:2.0
PRODID:-//National CAP - ECPv6.15.20//NONSGML v1.0//EN
CALSCALE:GREGORIAN
METHOD:PUBLISH
X-WR-CALNAME:National CAP
X-ORIGINAL-URL:https://communityactionpartnership.com
X-WR-CALDESC:Events for National CAP
REFRESH-INTERVAL;VALUE=DURATION:PT1H
X-Robots-Tag:noindex
X-PUBLISHED-TTL:PT1H
BEGIN:VTIMEZONE
TZID:UTC
BEGIN:STANDARD
TZOFFSETFROM:+0000
TZOFFSETTO:+0000
TZNAME:UTC
DTSTART:20220101T000000
END:STANDARD
END:VTIMEZONE
BEGIN:VEVENT
DTSTART;TZID=UTC:20230410T140000
DTEND;TZID=UTC:20230410T150000
DTSTAMP:20260420T153738
CREATED:20230308T141634Z
LAST-MODIFIED:20230308T141634Z
UID:79527-1681135200-1681138800@communityactionpartnership.com
SUMMARY:NCAP Strategic Plan Release Webinar
DESCRIPTION:Join NCAP CEO as she walks through the final board approved NCAP Strategic Plan for 2023-2025. As we look ahead to the 60th anniversary of Community Action next year\, the timing of this plan could not be better. Family well-being\, social and economic mobility\, and community engagement centered in equity are key tenants of Community Action and this plan outlines the broad strokes for continued innovation\, movement building\, and amplified network voice to keep us moving forward. Join us to learn more! \nClick here to register for the webinar.
URL:https://communityactionpartnership.com/event/ncap-strategic-plan-release-webinar/
CATEGORIES:Webinars
END:VEVENT
BEGIN:VEVENT
DTSTART;TZID=UTC:20230412T140000
DTEND;TZID=UTC:20230412T150000
DTSTAMP:20260420T153738
CREATED:20230324T145936Z
LAST-MODIFIED:20230324T145936Z
UID:79615-1681308000-1681311600@communityactionpartnership.com
SUMMARY:Analysis of Data? Some Examples to Explore
DESCRIPTION:Community Action staff from around the network have indicated that they want to know more about how to analyze the data they are collecting and reporting.  While we’ve facilitated countless sessions focusing on data analysis overviews and basic analysis techniques\, we rarely get to dive into real-world examples.  In this session\, the Association of Nationally Certified ROMA Trainers (ANCRT) will review several examples of data\, tackle the kinds of information we might be able to extract from them\, and discuss how we can turn the information into accountability\, accessibility\, and knowledge. \nRegister here to join this interactive and informative session!
URL:https://communityactionpartnership.com/event/analysis-of-data-some-examples-to-explore/
CATEGORIES:Webinars
END:VEVENT
BEGIN:VEVENT
DTSTART;TZID=UTC:20230413T140000
DTEND;TZID=UTC:20230413T150000
DTSTAMP:20260420T153738
CREATED:20230331T173551Z
LAST-MODIFIED:20230331T175345Z
UID:79662-1681394400-1681398000@communityactionpartnership.com
SUMMARY:Community Action Month Toolkit Overview
DESCRIPTION:During this webinar\, we’ll walk through the contents of the 2023 Community Action Month Toolkit\, how to use it\, and highlight what’s new. \nClick here to register for the webinar.
URL:https://communityactionpartnership.com/event/cam-toolkit-overview/
CATEGORIES:Webinars
END:VEVENT
END:VCALENDAR