BEGIN:VCALENDAR
VERSION:2.0
PRODID:-//National CAP - ECPv6.15.20//NONSGML v1.0//EN
CALSCALE:GREGORIAN
METHOD:PUBLISH
X-ORIGINAL-URL:https://communityactionpartnership.com
X-WR-CALDESC:Events for National CAP
REFRESH-INTERVAL;VALUE=DURATION:PT1H
X-Robots-Tag:noindex
X-PUBLISHED-TTL:PT1H
BEGIN:VTIMEZONE
TZID:UTC
BEGIN:STANDARD
TZOFFSETFROM:+0000
TZOFFSETTO:+0000
TZNAME:UTC
DTSTART:20220101T000000
END:STANDARD
END:VTIMEZONE
BEGIN:VEVENT
DTSTART;TZID=UTC:20230405T140000
DTEND;TZID=UTC:20230405T150000
DTSTAMP:20260420T153926
CREATED:20230309T131926Z
LAST-MODIFIED:20230316T151553Z
UID:79539-1680703200-1680706800@communityactionpartnership.com
SUMMARY:Community Action Well-Being\, Sabbaticals\, and Rest Justice
DESCRIPTION:Listen\, learn\, and participate in a conversation centered on Community Action Well-Being. In this interactive webinar\, participants will have the opportunity to learn from the experience of a Community Action Agency’s successful creation of an agency wellness plan that led to a funded 90-day sabbatical for its Executive Director. Make plans to attend and gain an understanding on how REST is an equity issue and an act of revolution. \nClick here to register for the webinar.
URL:https://communityactionpartnership.com/event/community-action-well-being/
CATEGORIES:Webinars
END:VEVENT
BEGIN:VEVENT
DTSTART;TZID=UTC:20230406T150000
DTEND;TZID=UTC:20230406T163000
DTSTAMP:20260420T153926
CREATED:20230307T232617Z
LAST-MODIFIED:20230327T215038Z
UID:79525-1680793200-1680798600@communityactionpartnership.com
SUMMARY:Meet the Refreshed Community Action Code of Ethics
DESCRIPTION:Join us on Thursday\, April 6 to learn about the refreshed Community Action Code of Ethics. The webinar will ground participants in the purpose of a Code of Ethics and describe the processes undertaken to produce the Code recently approved by the NCAP Board. Webinar leaders will review the Code\, which now includes six ethics\, each with its own guidance.  The webinar will begin at 3:00 PM Eastern and conclude by 4:30. Registration is free.  Click Here to log into MemberSuite\, or quickly create your NCAP Membership Account\, and register for the Code of Ethics webinar under “Events”.
URL:https://communityactionpartnership.com/event/meet-the-refreshed-community-action-code-of-ethics/
CATEGORIES:Webinars
END:VEVENT
END:VCALENDAR