BEGIN:VCALENDAR
VERSION:2.0
PRODID:-//National CAP - ECPv6.15.20//NONSGML v1.0//EN
CALSCALE:GREGORIAN
METHOD:PUBLISH
X-WR-CALNAME:National CAP
X-ORIGINAL-URL:https://communityactionpartnership.com
X-WR-CALDESC:Events for National CAP
REFRESH-INTERVAL;VALUE=DURATION:PT1H
X-Robots-Tag:noindex
X-PUBLISHED-TTL:PT1H
BEGIN:VTIMEZONE
TZID:UTC
BEGIN:STANDARD
TZOFFSETFROM:+0000
TZOFFSETTO:+0000
TZNAME:UTC
DTSTART:20220101T000000
END:STANDARD
END:VTIMEZONE
BEGIN:VEVENT
DTSTART;TZID=UTC:20230329T140000
DTEND;TZID=UTC:20230329T150000
DTSTAMP:20260420T154353
CREATED:20230310T134408Z
LAST-MODIFIED:20230310T195054Z
UID:79543-1680098400-1680102000@communityactionpartnership.com
SUMMARY:Authentic Engagement: People with Lived Expertise Shaping Homeless Programs and Policies
DESCRIPTION:Homeless service providers and systems are increasingly turning to those with lived experience of homelessness to help shape policies and inform programmatic reforms to improve the effectiveness of their interventions in reducing homelessness. This session\, presented by the National Alliance to End Homelessness\, will feature individuals with lived expertise who are serving to drive policy change through authentic collaboration with advocates and providers. \nClick here to register for the webinar.
URL:https://communityactionpartnership.com/event/people-with-lived-expertise-shaping-homeless-programs/
CATEGORIES:Webinars
END:VEVENT
END:VCALENDAR