BEGIN:VCALENDAR
VERSION:2.0
PRODID:-//National CAP - ECPv6.15.20//NONSGML v1.0//EN
CALSCALE:GREGORIAN
METHOD:PUBLISH
X-ORIGINAL-URL:https://communityactionpartnership.com
X-WR-CALDESC:Events for National CAP
REFRESH-INTERVAL;VALUE=DURATION:PT1H
X-Robots-Tag:noindex
X-PUBLISHED-TTL:PT1H
BEGIN:VTIMEZONE
TZID:UTC
BEGIN:STANDARD
TZOFFSETFROM:+0000
TZOFFSETTO:+0000
TZNAME:UTC
DTSTART:20220101T000000
END:STANDARD
END:VTIMEZONE
BEGIN:VEVENT
DTSTART;TZID=UTC:20230315T140000
DTEND;TZID=UTC:20230315T160000
DTSTAMP:20260420T153954
CREATED:20230122T141953Z
LAST-MODIFIED:20230122T141953Z
UID:79272-1678888800-1678896000@communityactionpartnership.com
SUMMARY:Introduction to Sovereignty Training for Non-Native CAAs
DESCRIPTION:This training\, led by the Alliance for a Just Society (AJS) and the Native Organizers Alliance (NAO)\, will help lay the foundation for an understanding of Native Sovereignty. Join us as we recognize and acknowledge the land\, history\, and culture of Native Nations\, work to address the inequities that continue to exist\, and strengthen the relationship between Native and Non-Native Community Action leaders. \nClick here to register.
URL:https://communityactionpartnership.com/event/introduction-to-sovereignty-training-for-non-native-caas-2/
CATEGORIES:Webinars
END:VEVENT
END:VCALENDAR