BEGIN:VCALENDAR
VERSION:2.0
PRODID:-//National CAP - ECPv6.15.20//NONSGML v1.0//EN
CALSCALE:GREGORIAN
METHOD:PUBLISH
X-ORIGINAL-URL:https://communityactionpartnership.com
X-WR-CALDESC:Events for National CAP
REFRESH-INTERVAL;VALUE=DURATION:PT1H
X-Robots-Tag:noindex
X-PUBLISHED-TTL:PT1H
BEGIN:VTIMEZONE
TZID:UTC
BEGIN:STANDARD
TZOFFSETFROM:+0000
TZOFFSETTO:+0000
TZNAME:UTC
DTSTART:20220101T000000
END:STANDARD
END:VTIMEZONE
BEGIN:VEVENT
DTSTART;TZID=UTC:20230222T140000
DTEND;TZID=UTC:20230222T150000
DTSTAMP:20260420T184951
CREATED:20221129T194141Z
LAST-MODIFIED:20230221T161451Z
UID:78530-1677074400-1677078000@communityactionpartnership.com
SUMMARY:Community Action 101
DESCRIPTION:TIME: 2 PM ET | 1 PM CT | 12 PM MT | 11 AM PT \nFor more than 50 years\, Community Action has served as a dynamic and community-based force in addressing the causes and conditions of poverty throughout the USA. Join the Partnership’s CEO\, Denise Harlow\, as she grounds us in the history\, model\, and Promise of Community Action\, and discusses current opportunities for the Community Action network. \nClick here to register.
URL:https://communityactionpartnership.com/event/community-action-101/
CATEGORIES:CAP Events,Webinars
END:VEVENT
END:VCALENDAR