BEGIN:VCALENDAR
VERSION:2.0
PRODID:-//National CAP - ECPv6.15.20//NONSGML v1.0//EN
CALSCALE:GREGORIAN
METHOD:PUBLISH
X-ORIGINAL-URL:https://communityactionpartnership.com
X-WR-CALDESC:Events for National CAP
REFRESH-INTERVAL;VALUE=DURATION:PT1H
X-Robots-Tag:noindex
X-PUBLISHED-TTL:PT1H
BEGIN:VTIMEZONE
TZID:UTC
BEGIN:STANDARD
TZOFFSETFROM:+0000
TZOFFSETTO:+0000
TZNAME:UTC
DTSTART:20220101T000000
END:STANDARD
END:VTIMEZONE
BEGIN:VEVENT
DTSTART;TZID=UTC:20230216T140000
DTEND;TZID=UTC:20230216T150000
DTSTAMP:20260421T030844
CREATED:20230103T180142Z
LAST-MODIFIED:20230103T180142Z
UID:79186-1676556000-1676559600@communityactionpartnership.com
SUMMARY:Strong Partnerships Yield Excellent Results in Arkansas WAP
DESCRIPTION:TIME: 2 PM ET | 1 PM CT | 12 PM MT | 11 AM PT \nThe Entergy Low-Income Solutions Partnership uses government\, ratepayer and private\, nonprofit resources to help LIHEAP-eligible Arkansas households become efficient\, comfortable and safe through home weatherization upgrades. Working with WAP Subgrantee Better Community Development\, Entergy provides funding to prepare single family homes\, apartments and manufactured homes for weatherization\, including repairs and enhancements not covered in WAP. Braiding resources enables them to serve many high energy-burden vulnerable households who need the help the most. \nPanelists: \n\nHeather Hendrickson\, Entergy Arkansas\nDarryl Swinton\, Better Community Development\nTerry Kessinger\, ICF Consulting\nIris Pennington\, Arkansas Dept. of Energy and Environment\n\nClick here to register for the webinar.
URL:https://communityactionpartnership.com/event/strong-partnerships-yield-excellent-results-in-arkansas-wap/
CATEGORIES:Webinars
END:VEVENT
END:VCALENDAR