BEGIN:VCALENDAR
VERSION:2.0
PRODID:-//National CAP - ECPv6.15.20//NONSGML v1.0//EN
CALSCALE:GREGORIAN
METHOD:PUBLISH
X-ORIGINAL-URL:https://communityactionpartnership.com
X-WR-CALDESC:Events for National CAP
REFRESH-INTERVAL;VALUE=DURATION:PT1H
X-Robots-Tag:noindex
X-PUBLISHED-TTL:PT1H
BEGIN:VTIMEZONE
TZID:UTC
BEGIN:STANDARD
TZOFFSETFROM:+0000
TZOFFSETTO:+0000
TZNAME:UTC
DTSTART:20210101T000000
END:STANDARD
END:VTIMEZONE
BEGIN:VEVENT
DTSTART;TZID=UTC:20220825T140000
DTEND;TZID=UTC:20220825T150000
DTSTAMP:20260421T202047
CREATED:20220819T122223Z
LAST-MODIFIED:20220819T122223Z
UID:76149-1661436000-1661439600@communityactionpartnership.com
SUMMARY:National Partners Webinar on CARES Spending
DESCRIPTION:Join the National Partners to Learn More About the Mortgage Assistance Information Memorandum and the Dear Colleague Letter for Expending CSBG CARES Funds. \nThis webinar will focus on the details of the CSBG-IM-2022-163 Mortgage Assistance and the CSBG – DCL- 2022-43 Expending CSBG CARES Funds FY 2022. Staff from OCS\, CAPLAW\, NASCSP\, and NCAP will be available to provide guidance and respond to questions to equip CAA staff with the knowledge to successfully spend these valuable funds to help individuals\, families\, and communities respond to ongoing needs caused by the pandemic. \nClick here to register.
URL:https://communityactionpartnership.com/event/national-partners-webinar-on-cares-spending/
CATEGORIES:Webinars
END:VEVENT
END:VCALENDAR