BEGIN:VCALENDAR
VERSION:2.0
PRODID:-//National CAP - ECPv6.15.20//NONSGML v1.0//EN
CALSCALE:GREGORIAN
METHOD:PUBLISH
X-WR-CALNAME:National CAP
X-ORIGINAL-URL:https://communityactionpartnership.com
X-WR-CALDESC:Events for National CAP
REFRESH-INTERVAL;VALUE=DURATION:PT1H
X-Robots-Tag:noindex
X-PUBLISHED-TTL:PT1H
BEGIN:VTIMEZONE
TZID:UTC
BEGIN:STANDARD
TZOFFSETFROM:+0000
TZOFFSETTO:+0000
TZNAME:UTC
DTSTART:20210101T000000
END:STANDARD
END:VTIMEZONE
BEGIN:VEVENT
DTSTART;TZID=UTC:20220817T140000
DTEND;TZID=UTC:20220817T150000
DTSTAMP:20260421T201758
CREATED:20220804T215914Z
LAST-MODIFIED:20220804T220319Z
UID:76104-1660744800-1660748400@communityactionpartnership.com
SUMMARY:Introduction to Sovereignty Training for Non-Native CAAs
DESCRIPTION:Led by the Alliance for a Just Society (AJS) and the Native Organizers Alliance (NAO)\, this training will help lay the foundation for an understanding of Native Sovereignty. Join us as we recognize and acknowledge the land\, history\, and culture of Native Nations\, work to address the inequities that continue to exist\, and strengthen the relationship between Native and Non-Native Community Action leaders. \nClick here to register.
URL:https://communityactionpartnership.com/event/introduction-to-sovereignty-training-for-non-native-caas/
CATEGORIES:Webinars
END:VEVENT
END:VCALENDAR