BEGIN:VCALENDAR
VERSION:2.0
PRODID:-//National CAP - ECPv6.15.20//NONSGML v1.0//EN
CALSCALE:GREGORIAN
METHOD:PUBLISH
X-ORIGINAL-URL:https://communityactionpartnership.com
X-WR-CALDESC:Events for National CAP
REFRESH-INTERVAL;VALUE=DURATION:PT1H
X-Robots-Tag:noindex
X-PUBLISHED-TTL:PT1H
BEGIN:VTIMEZONE
TZID:America/New_York
BEGIN:DAYLIGHT
TZOFFSETFROM:-0500
TZOFFSETTO:-0400
TZNAME:EDT
DTSTART:20210314T070000
END:DAYLIGHT
BEGIN:STANDARD
TZOFFSETFROM:-0400
TZOFFSETTO:-0500
TZNAME:EST
DTSTART:20211107T060000
END:STANDARD
BEGIN:DAYLIGHT
TZOFFSETFROM:-0500
TZOFFSETTO:-0400
TZNAME:EDT
DTSTART:20220313T070000
END:DAYLIGHT
BEGIN:STANDARD
TZOFFSETFROM:-0400
TZOFFSETTO:-0500
TZNAME:EST
DTSTART:20221106T060000
END:STANDARD
BEGIN:DAYLIGHT
TZOFFSETFROM:-0500
TZOFFSETTO:-0400
TZNAME:EDT
DTSTART:20230312T070000
END:DAYLIGHT
BEGIN:STANDARD
TZOFFSETFROM:-0400
TZOFFSETTO:-0500
TZNAME:EST
DTSTART:20231105T060000
END:STANDARD
END:VTIMEZONE
BEGIN:VTIMEZONE
TZID:UTC
BEGIN:STANDARD
TZOFFSETFROM:+0000
TZOFFSETTO:+0000
TZNAME:UTC
DTSTART:20210101T000000
END:STANDARD
END:VTIMEZONE
BEGIN:VEVENT
DTSTART;TZID=America/New_York:20220726T150000
DTEND;TZID=America/New_York:20220726T160000
DTSTAMP:20260421T202057
CREATED:20220706T195403Z
LAST-MODIFIED:20220706T195403Z
UID:75957-1658847600-1658851200@communityactionpartnership.com
SUMMARY:Public CAA Convening
DESCRIPTION:TIME: 3PM ET | 2PM CT | 1PM MT | 12PM PT \nIn this moment\, public Community Action Agencies face unprecedented challenges and opportunities. In this event\, NCAP will bring together public Community Action Agencies for programmatic updates\, peer learning\, and resource sharing. Gather with colleagues from across the nation to learn\, discuss\, and share! \nClick here to register.
URL:https://communityactionpartnership.com/event/public-caa-convening/
END:VEVENT
BEGIN:VEVENT
DTSTART;TZID=UTC:20220726T150000
DTEND;TZID=UTC:20220726T160000
DTSTAMP:20260421T202057
CREATED:20220708T155859Z
LAST-MODIFIED:20220708T155859Z
UID:75996-1658847600-1658851200@communityactionpartnership.com
SUMMARY:Public Community Action Agency Convening
DESCRIPTION:TIME: 3 PM ET | 2 PM CT | 1 PM MT | 12 PM PT \nIn this moment\, public Community Action Agencies face unprecedented challenges and opportunities. In this event\, NCAP will bring together public Community Action Agencies for programmatic updates\, peer learning\, and resource sharing. Gather with colleagues from across the nation to learn\, discuss\, and share! \nClick here to register.
URL:https://communityactionpartnership.com/event/public-community-action-agency-convening/
CATEGORIES:Webinars
END:VEVENT
BEGIN:VEVENT
DTSTART;TZID=UTC:20220727T140000
DTEND;TZID=UTC:20220727T150000
DTSTAMP:20260421T202057
CREATED:20220615T125004Z
LAST-MODIFIED:20220624T164537Z
UID:74064-1658930400-1658934000@communityactionpartnership.com
SUMMARY:Centering Equity in Collective Impact
DESCRIPTION:TIME: 2 PM ET | 1 PM CT | 12 PM MT | 11 AM PT \nIn this webinar\, co-authors of the recent article “Centering Equity in Collective Impact” will share an updated definition of collective impact based on lessons learned over the past 10 years\, as well as specific strategies that can be used to advance collective impact efforts. Join us to learn more about how Community Action Agencies can incorporate these strategies in communities as we work towards systems-level changes that are grounded in equity in support of families achieving social and economic mobility. \nClick here to register.
URL:https://communityactionpartnership.com/event/centering-equity-in-collective-impact/
CATEGORIES:Webinars
END:VEVENT
END:VCALENDAR