BEGIN:VCALENDAR
VERSION:2.0
PRODID:-//National CAP - ECPv6.15.20//NONSGML v1.0//EN
CALSCALE:GREGORIAN
METHOD:PUBLISH
X-ORIGINAL-URL:https://communityactionpartnership.com
X-WR-CALDESC:Events for National CAP
REFRESH-INTERVAL;VALUE=DURATION:PT1H
X-Robots-Tag:noindex
X-PUBLISHED-TTL:PT1H
BEGIN:VTIMEZONE
TZID:UTC
BEGIN:STANDARD
TZOFFSETFROM:+0000
TZOFFSETTO:+0000
TZNAME:UTC
DTSTART:20210101T000000
END:STANDARD
END:VTIMEZONE
BEGIN:VEVENT
DTSTART;TZID=UTC:20220720T140000
DTEND;TZID=UTC:20220720T150000
DTSTAMP:20260421T173536
CREATED:20220624T164354Z
LAST-MODIFIED:20220624T164354Z
UID:75932-1658325600-1658329200@communityactionpartnership.com
SUMMARY:Weatherization Workforce Development
DESCRIPTION:TIME: 2 PM ET | 1 PM CT | 12 PM MT | 11 AM PT \nStaff from the National Renewable Energy Laboratory (NREL) will present highlights from the recent Weatherization Assistance Program (WAP) Continuous Improvement Workshop on Workforce Development: Recruitment and Retention. Allison Moe\, Juliana Williams and Cory Chovanec will provide an overview of the Continuous Improvement process\, offer resources\, and highlight case studies of innovative workforce development approaches from weatherization staff across the county. This session is intended to help the broader WAP network access the practices and ideas shared by presenters and participants during the recent workshop. Topics will include exciting approaches to bringing on and training new staff and contractors\, keeping staff through work benefits\, and establishing supportive system and culture. \nClick here to register.
URL:https://communityactionpartnership.com/event/weatherization-workforce-development/
CATEGORIES:Webinars
END:VEVENT
BEGIN:VEVENT
DTSTART;TZID=UTC:20220721T140000
DTEND;TZID=UTC:20220721T150000
DTSTAMP:20260421T173536
CREATED:20220715T141523Z
LAST-MODIFIED:20220715T141555Z
UID:76020-1658412000-1658415600@communityactionpartnership.com
SUMMARY:Community Solar Subscription Platform Launch
DESCRIPTION:TIME: 2 PM ET | 1 PM CT | 12 PM MT | 11 AM PT \nThe U.S. Department of Energy (DOE) National Community Solar Partnership (NCSP) is partnering with U.S. Department of Health and Human Services (HHS) to increase access to community solar subscriptions for Low-Income Home Energy Assistance Program (LIHEAP) recipients. In this webinar\, representatives from DOE\, HHS\, and the National Renewable Energy Laboratory (NREL) will provide an overview of the benefits of community solar for low-income households\, the pilot program to connect LIHEAP recipients with community solar\, how to provide input on the pilot program\, and additional information about how to connect LIHEAP recipients with local community solar. \nClick here to register.
URL:https://communityactionpartnership.com/event/community-solar-subscription-platform-launch/
CATEGORIES:Webinars
END:VEVENT
END:VCALENDAR