BEGIN:VCALENDAR
VERSION:2.0
PRODID:-//National CAP - ECPv6.15.20//NONSGML v1.0//EN
CALSCALE:GREGORIAN
METHOD:PUBLISH
X-WR-CALNAME:National CAP
X-ORIGINAL-URL:https://communityactionpartnership.com
X-WR-CALDESC:Events for National CAP
REFRESH-INTERVAL;VALUE=DURATION:PT1H
X-Robots-Tag:noindex
X-PUBLISHED-TTL:PT1H
BEGIN:VTIMEZONE
TZID:America/New_York
BEGIN:DAYLIGHT
TZOFFSETFROM:-0500
TZOFFSETTO:-0400
TZNAME:EDT
DTSTART:20210314T070000
END:DAYLIGHT
BEGIN:STANDARD
TZOFFSETFROM:-0400
TZOFFSETTO:-0500
TZNAME:EST
DTSTART:20211107T060000
END:STANDARD
BEGIN:DAYLIGHT
TZOFFSETFROM:-0500
TZOFFSETTO:-0400
TZNAME:EDT
DTSTART:20220313T070000
END:DAYLIGHT
BEGIN:STANDARD
TZOFFSETFROM:-0400
TZOFFSETTO:-0500
TZNAME:EST
DTSTART:20221106T060000
END:STANDARD
BEGIN:DAYLIGHT
TZOFFSETFROM:-0500
TZOFFSETTO:-0400
TZNAME:EDT
DTSTART:20230312T070000
END:DAYLIGHT
BEGIN:STANDARD
TZOFFSETFROM:-0400
TZOFFSETTO:-0500
TZNAME:EST
DTSTART:20231105T060000
END:STANDARD
END:VTIMEZONE
BEGIN:VTIMEZONE
TZID:UTC
BEGIN:STANDARD
TZOFFSETFROM:+0000
TZOFFSETTO:+0000
TZNAME:UTC
DTSTART:20210101T000000
END:STANDARD
END:VTIMEZONE
BEGIN:VEVENT
DTSTART;TZID=America/New_York:20220608T140000
DTEND;TZID=America/New_York:20220608T150000
DTSTAMP:20260421T190437
CREATED:20220519T131415Z
LAST-MODIFIED:20220519T131522Z
UID:72329-1654696800-1654700400@communityactionpartnership.com
SUMMARY:Organizational Standards 101
DESCRIPTION:CSBG Organizational Standards represent important minimum thresholds to ensure Community Action Agencies have the needed capacity to serve America’s communities. The full implementation of the principles and practices articulated in the Organizational Standards assures a consistent and strong CSBG network. This session will provide an overview of the Organizational Standards\, their requirements\, available resources\, and how-to tips and tricks for meeting standards (and documenting them!). \nClick here to register.
URL:https://communityactionpartnership.com/event/organizational-standards-101/
END:VEVENT
BEGIN:VEVENT
DTSTART;TZID=UTC:20220608T140000
DTEND;TZID=UTC:20220608T150000
DTSTAMP:20260421T190437
CREATED:20220519T132608Z
LAST-MODIFIED:20220519T132608Z
UID:72331-1654696800-1654700400@communityactionpartnership.com
SUMMARY:Organizational Standards 101
DESCRIPTION:TIME: 2 PM ET | 1 PM CT | 12 PM MT | 11 AM PT \nCSBG Organizational Standards represent important minimum thresholds to ensure Community Action Agencies have the needed capacity to serve America’s communities. The full implementation of the principles and practices articulated in the Organizational Standards assures a consistent and strong CSBG network. This session will provide an overview of the Organizational Standards\, their requirements\, available resources\, and how-to tips and tricks for meeting standards (and documenting them!). \nClick here to register.
URL:https://communityactionpartnership.com/event/organizational-standards-101-2/
CATEGORIES:Webinars
END:VEVENT
END:VCALENDAR