BEGIN:VCALENDAR
VERSION:2.0
PRODID:-//National CAP - ECPv6.15.20//NONSGML v1.0//EN
CALSCALE:GREGORIAN
METHOD:PUBLISH
X-ORIGINAL-URL:https://communityactionpartnership.com
X-WR-CALDESC:Events for National CAP
REFRESH-INTERVAL;VALUE=DURATION:PT1H
X-Robots-Tag:noindex
X-PUBLISHED-TTL:PT1H
BEGIN:VTIMEZONE
TZID:UTC
BEGIN:STANDARD
TZOFFSETFROM:+0000
TZOFFSETTO:+0000
TZNAME:UTC
DTSTART:20210101T000000
END:STANDARD
END:VTIMEZONE
BEGIN:VEVENT
DTSTART;TZID=UTC:20220418T140000
DTEND;TZID=UTC:20220418T150000
DTSTAMP:20260422T015203
CREATED:20220415T183632Z
LAST-MODIFIED:20220416T133801Z
UID:72108-1650290400-1650294000@communityactionpartnership.com
SUMMARY:CARES CSBG Spending Office Hours
DESCRIPTION:MONDAY\, APRIL 18\, at 2 ET | 1 CT | 12 MT | 11 PT \nClick here to register.
URL:https://communityactionpartnership.com/event/cares-csbg-spending-office-hours/
CATEGORIES:Webinars
END:VEVENT
BEGIN:VEVENT
DTSTART;TZID=UTC:20220420T140000
DTEND;TZID=UTC:20220420T150000
DTSTAMP:20260422T015203
CREATED:20220413T155515Z
LAST-MODIFIED:20220413T155515Z
UID:72089-1650463200-1650466800@communityactionpartnership.com
SUMMARY:Housing Expansion Opportunities and Homeless Prevention: Rapid Re-Housing — Onboarding for New Providers
DESCRIPTION:WEDNESDAY\, APRIL 20\, at 2 PM ET | 1 PM CT | 12 PM MT | 11 AM PT\nThis introductory webinar will provide an overview of Rapid Re-housing and its role in developing an effective community-wide response to homelessness. Participants will explore the role that Community Action Agencies can play in leading\, supporting\, and/or augmenting Rapid Re-housing in the jurisdictions they serve. Participants will also explore strategies to increase housing placements while rental markets continue to tighten. \nClick here to register.
URL:https://communityactionpartnership.com/event/housing-expansion-opportunities-and-homeless-prevention-rapid-re-housing-onboarding-for-new-providers/
CATEGORIES:Webinars
END:VEVENT
END:VCALENDAR