BEGIN:VCALENDAR
VERSION:2.0
PRODID:-//National CAP - ECPv6.15.20//NONSGML v1.0//EN
CALSCALE:GREGORIAN
METHOD:PUBLISH
X-ORIGINAL-URL:https://communityactionpartnership.com
X-WR-CALDESC:Events for National CAP
REFRESH-INTERVAL;VALUE=DURATION:PT1H
X-Robots-Tag:noindex
X-PUBLISHED-TTL:PT1H
BEGIN:VTIMEZONE
TZID:UTC
BEGIN:STANDARD
TZOFFSETFROM:+0000
TZOFFSETTO:+0000
TZNAME:UTC
DTSTART:20210101T000000
END:STANDARD
END:VTIMEZONE
BEGIN:VEVENT
DTSTART;TZID=UTC:20220308T140000
DTEND;TZID=UTC:20220308T150000
DTSTAMP:20260422T015148
CREATED:20220211T185221Z
LAST-MODIFIED:20220211T185221Z
UID:71248-1646748000-1646751600@communityactionpartnership.com
SUMMARY:Child Tax Credit (CTC) Office Hours
DESCRIPTION:Click here to register.
URL:https://communityactionpartnership.com/event/child-tax-credit-ctc-office-hours-2/
CATEGORIES:Webinars
END:VEVENT
BEGIN:VEVENT
DTSTART;TZID=UTC:20220308T140000
DTEND;TZID=UTC:20220308T153000
DTSTAMP:20260422T015148
CREATED:20220210T203833Z
LAST-MODIFIED:20220210T203833Z
UID:71223-1646748000-1646753400@communityactionpartnership.com
SUMMARY:Advance Your CAP Work With A Springfield College Degree
DESCRIPTION:Community Action Agency employees enrolled in undergraduate and graduate programs at Springfield College are eligible to receive a $5\,000 or $10\,000 partner grant. This grant has been established by Springfield College to support CAP member agencies being educated for leadership in service to others. Please join us for this webinar to learn more about our flexible degree programs and the partnership grant. \nClick here to register.
URL:https://communityactionpartnership.com/event/advance-your-cap-work-with-a-springfield-college-degree/
CATEGORIES:Webinars
END:VEVENT
BEGIN:VEVENT
DTSTART;TZID=UTC:20220308T140000
DTEND;TZID=UTC:20220308T153000
DTSTAMP:20260422T015148
CREATED:20220210T204358Z
LAST-MODIFIED:20220210T204358Z
UID:71225-1646748000-1646753400@communityactionpartnership.com
SUMMARY:Quarterly Public Community Action Agency Meeting
DESCRIPTION:Join the National Community Action Partnership for our next quarterly public Community Action Agency meeting. These meetings provide opportunities specifically for public CAAs to connect with their peers from around the country\, discuss current topics\, and receive relevant training. Registration is required; please register here.
URL:https://communityactionpartnership.com/event/quarterly-public-community-action-agency-meeting/
CATEGORIES:Webinars
END:VEVENT
BEGIN:VEVENT
DTSTART;TZID=UTC:20220309T133000
DTEND;TZID=UTC:20220309T143000
DTSTAMP:20260422T015148
CREATED:20220211T152713Z
LAST-MODIFIED:20220211T184015Z
UID:71236-1646832600-1646836200@communityactionpartnership.com
SUMMARY:Aligning Systems to Advance Community and Family Well-Being: A Partnership Playbook for Community Action and Human Services Agencies
DESCRIPTION:Come learn about how Community Action Agencies and public human services agencies have worked together during the COVID-19 pandemic response and what opportunities lie ahead to catalyze stronger connections to support the well-being of communities. Drawing on examples from the field\, the National Community Action Partnership and American Public Human Services Association have co-created a Partnership Playbook that elevates promising areas of alignment between the two networks that can be deployed to maximize the impact of COVID-relief and other federal investments intended to support a strong and equitable recovery. The Playbook additionally explores where\, despite their shared purpose and vision\, more work is needed to transform the way human services and Community Action Agencies work together to help communities reach their potential. \nClick here to register.
URL:https://communityactionpartnership.com/event/national-community-action-partnership-playbook-on-working-together-and-improving-the-well-being-of-communities/
CATEGORIES:Webinars
END:VEVENT
END:VCALENDAR