BEGIN:VCALENDAR
VERSION:2.0
PRODID:-//National CAP - ECPv6.15.20//NONSGML v1.0//EN
CALSCALE:GREGORIAN
METHOD:PUBLISH
X-ORIGINAL-URL:https://communityactionpartnership.com
X-WR-CALDESC:Events for National CAP
REFRESH-INTERVAL;VALUE=DURATION:PT1H
X-Robots-Tag:noindex
X-PUBLISHED-TTL:PT1H
BEGIN:VTIMEZONE
TZID:UTC
BEGIN:STANDARD
TZOFFSETFROM:+0000
TZOFFSETTO:+0000
TZNAME:UTC
DTSTART:20210101T000000
END:STANDARD
END:VTIMEZONE
BEGIN:VEVENT
DTSTART;TZID=UTC:20220119T140000
DTEND;TZID=UTC:20220119T150000
DTSTAMP:20260422T113056
CREATED:20211220T172117Z
LAST-MODIFIED:20220114T192617Z
UID:70955-1642600800-1642604400@communityactionpartnership.com
SUMMARY:2022 Annual Rev. Dr. Martin Luther King\, Jr. Commemoration Webinar
DESCRIPTION:Join us as we remember the legacy of Rev. Dr. Martin Luther King\, Jr. with keynote speaker\, Jerome H. Underwood\, President & CEO of Action for a Better Community (ABC). Under his leadership\, ABC is doing incredible work in the community and beyond. \nClick here to register for the webinar.
URL:https://communityactionpartnership.com/event/2022-annual-rev-dr-martin-luther-king-jr-commemoration-webinar/
CATEGORIES:Webinars
END:VEVENT
END:VCALENDAR