BEGIN:VCALENDAR
VERSION:2.0
PRODID:-//National CAP - ECPv6.15.20//NONSGML v1.0//EN
CALSCALE:GREGORIAN
METHOD:PUBLISH
X-ORIGINAL-URL:https://communityactionpartnership.com
X-WR-CALDESC:Events for National CAP
REFRESH-INTERVAL;VALUE=DURATION:PT1H
X-Robots-Tag:noindex
X-PUBLISHED-TTL:PT1H
BEGIN:VTIMEZONE
TZID:UTC
BEGIN:STANDARD
TZOFFSETFROM:+0000
TZOFFSETTO:+0000
TZNAME:UTC
DTSTART:20210101T000000
END:STANDARD
END:VTIMEZONE
BEGIN:VEVENT
DTSTART;TZID=UTC:20220112T140000
DTEND;TZID=UTC:20220112T150000
DTSTAMP:20260422T223719
CREATED:20211216T183437Z
LAST-MODIFIED:20211216T183437Z
UID:70928-1641996000-1641999600@communityactionpartnership.com
SUMMARY:Learning Communities Resource Center 2022 Kickoff Webinar
DESCRIPTION:Join the National Partnership team to learn more about how to get involved with the Learning Communities Resource Center (LCRC) as we launch the next cycle of sharing and learning opportunities for the Community Action CSBG Network. LCRC is an innovation hub that works with CAAs to identify effective\, promising\, and innovative practice models that combat the causes and conditions of poverty. Participating individuals and agencies are given the opportunity to develop innovative anti-poverty approaches\, improve programs\, and sharpen service-delivery strategies specific to the needs of local communities. Join a network of organizations and leaders who have been given the tools to launch impactful and lasting transformations through participation in these sharing and learning cohorts! During the webinar we will discuss upcoming events\, cohort topics\, new resources\, and application process questions. \nClick here to register for the webinar.
URL:https://communityactionpartnership.com/event/learning-communities-resource-center-2022-kickoff-webinar/
CATEGORIES:Webinars
END:VEVENT
BEGIN:VEVENT
DTSTART;TZID=UTC:20220112T140000
DTEND;TZID=UTC:20220112T150000
DTSTAMP:20260422T223719
CREATED:20220107T173519Z
LAST-MODIFIED:20220107T173714Z
UID:70984-1641996000-1641999600@communityactionpartnership.com
SUMMARY:Reflections — with Ken Ackerman of Virtual CAP
DESCRIPTION:CAFCA’s Deb Polun will interview longtime Community Action network friend and partner Ken Ackerman\, for reflections on his years in Community Action\, and what he thinks lies ahead for our Promise. \nClick here to register for the webinar.
URL:https://communityactionpartnership.com/event/reflections-with-ken-ackerman/
CATEGORIES:Webinars
END:VEVENT
END:VCALENDAR