BEGIN:VCALENDAR
VERSION:2.0
PRODID:-//National CAP - ECPv6.15.20//NONSGML v1.0//EN
CALSCALE:GREGORIAN
METHOD:PUBLISH
X-WR-CALNAME:National CAP
X-ORIGINAL-URL:https://communityactionpartnership.com
X-WR-CALDESC:Events for National CAP
REFRESH-INTERVAL;VALUE=DURATION:PT1H
X-Robots-Tag:noindex
X-PUBLISHED-TTL:PT1H
BEGIN:VTIMEZONE
TZID:UTC
BEGIN:STANDARD
TZOFFSETFROM:+0000
TZOFFSETTO:+0000
TZNAME:UTC
DTSTART:20200101T000000
END:STANDARD
END:VTIMEZONE
BEGIN:VEVENT
DTSTART;TZID=UTC:20211110T140000
DTEND;TZID=UTC:20211110T150000
DTSTAMP:20260422T223435
CREATED:20211007T210718Z
LAST-MODIFIED:20211007T210718Z
UID:70425-1636552800-1636556400@communityactionpartnership.com
SUMMARY:Combining Utility Assistance\, Wraparound Services and Roof Repairs in Weatherization
DESCRIPTION:Shama Mounzer serves as the Integration Executive Director at Wayne Metropolitan Community Action Agency\, and oversees the Agency’s multi-faceted Utility Assistance Program\, which serves communities within Wayne County\, Michigan. Three years ago\, the Agency implemented the initial phase of its roof repair program with an interest list of clients\, and limited funding. In an effort to help residents improve their housing conditions\, a partnership was formed with the State of Michigan and the City of Detroit to include wraparound services. In this webinar Shama describes how they integrate utility bill payment assistance and multiple home repair funds to reduce deferrals and maximize the Weatherization Assistance Program. \nClick here to register.
URL:https://communityactionpartnership.com/event/combining-utility-assistance-wraparound-services-and-roof-repairs-in-weatherization/
CATEGORIES:Webinars
END:VEVENT
END:VCALENDAR