BEGIN:VCALENDAR
VERSION:2.0
PRODID:-//National CAP - ECPv6.15.20//NONSGML v1.0//EN
CALSCALE:GREGORIAN
METHOD:PUBLISH
X-ORIGINAL-URL:https://communityactionpartnership.com
X-WR-CALDESC:Events for National CAP
REFRESH-INTERVAL;VALUE=DURATION:PT1H
X-Robots-Tag:noindex
X-PUBLISHED-TTL:PT1H
BEGIN:VTIMEZONE
TZID:UTC
BEGIN:STANDARD
TZOFFSETFROM:+0000
TZOFFSETTO:+0000
TZNAME:UTC
DTSTART:20200101T000000
END:STANDARD
END:VTIMEZONE
BEGIN:VEVENT
DTSTART;TZID=UTC:20211103T140000
DTEND;TZID=UTC:20211103T150000
DTSTAMP:20260422T223508
CREATED:20211007T204138Z
LAST-MODIFIED:20250410T184127Z
UID:70423-1635948000-1635951600@communityactionpartnership.com
SUMMARY:Pathways to Excellence: 2022 Launch
DESCRIPTION:Join us to learn about how your agency can pursue excellence in 2022. Pathways to Excellence has adopted a new multi-leveled Tiered Approach for agencies interested in moving beyond minimum requirements and taking the next steps for achieving agency-wide excellence based on the thirty-five CAA Standards of Excellence. The CAA Standards of Excellence represent the very best practices of the very best agencies. The Tiered Approach offers new levels of engagement and encourages any agency to take the first initial steps and move forward at your own pace for becoming a high-performance\, ever-improving Agency of Excellence. Click here to register.
URL:https://communityactionpartnership.com/event/pathways-to-excellence-2022-launch/
CATEGORIES:Webinars
END:VEVENT
END:VCALENDAR