BEGIN:VCALENDAR
VERSION:2.0
PRODID:-//National CAP - ECPv6.15.20//NONSGML v1.0//EN
CALSCALE:GREGORIAN
METHOD:PUBLISH
X-ORIGINAL-URL:https://communityactionpartnership.com
X-WR-CALDESC:Events for National CAP
REFRESH-INTERVAL;VALUE=DURATION:PT1H
X-Robots-Tag:noindex
X-PUBLISHED-TTL:PT1H
BEGIN:VTIMEZONE
TZID:UTC
BEGIN:STANDARD
TZOFFSETFROM:+0000
TZOFFSETTO:+0000
TZNAME:UTC
DTSTART:20200101T000000
END:STANDARD
END:VTIMEZONE
BEGIN:VEVENT
DTSTART;TZID=UTC:20211015T140000
DTEND;TZID=UTC:20211015T150000
DTSTAMP:20260422T223512
CREATED:20211008T130616Z
LAST-MODIFIED:20211008T130616Z
UID:70474-1634306400-1634310000@communityactionpartnership.com
SUMMARY:Helping All Eligible Families Get the Child Tax Credit
DESCRIPTION:NCAP is honored to have the Center of Budget and Policy Priorities (CBPP) join us in our 30 day push to get families enrolled in the Advanced Child Tax Credit. The 2021 Child Tax Credit expansion provides a historic opportunity to reduce child poverty in the United States by more than 40 percent! Non-filer families can submit their info to the IRS through November 15\, 2021. Your efforts to help people get advance CTC payments are essential. Join this session to learn what’s new with the Child Tax Credit and how families can get it with special focus on the non-filers. Find out answers to common questions and resources to support people who need more assistance. \nCBPP is a nonpartisan research and policy institute pursuing federal and state policies designed to both reduce poverty and inequality and to restore fiscal responsibility in equitable and effective ways. \nThe CBPP staff presenting for this webinar are: \n\nRoxy Caines\, Get it Back Campaign Director\nJanne Huang\, Outreach Campaign Strategies Manager\nChristine Tran\, Outreach Intern\n\nPlease join us and learn more about helping families get the money they deserve! \nClick here to register for the webinar.
URL:https://communityactionpartnership.com/event/helping-all-eligible-families-get-the-child-tax-credit/
CATEGORIES:Webinars
END:VEVENT
END:VCALENDAR