BEGIN:VCALENDAR
VERSION:2.0
PRODID:-//National CAP - ECPv6.15.20//NONSGML v1.0//EN
CALSCALE:GREGORIAN
METHOD:PUBLISH
X-ORIGINAL-URL:https://communityactionpartnership.com
X-WR-CALDESC:Events for National CAP
REFRESH-INTERVAL;VALUE=DURATION:PT1H
X-Robots-Tag:noindex
X-PUBLISHED-TTL:PT1H
BEGIN:VTIMEZONE
TZID:UTC
BEGIN:STANDARD
TZOFFSETFROM:+0000
TZOFFSETTO:+0000
TZNAME:UTC
DTSTART:20200101T000000
END:STANDARD
END:VTIMEZONE
BEGIN:VEVENT
DTSTART;TZID=UTC:20211006T140000
DTEND;TZID=UTC:20211006T153000
DTSTAMP:20260422T223524
CREATED:20210927T133405Z
LAST-MODIFIED:20211006T135833Z
UID:70210-1633528800-1633534200@communityactionpartnership.com
SUMMARY:Fall Season Kickoff: Resources and Opportunities for Community Action
DESCRIPTION:Join the National Community Action Partnership as we kick off fall with a review of the new resources and opportunities for the Community Action Network. Partnership staff will preview what is to come from major initiatives including the Learning Communities Resource Center\, the relaunch of Pathways to Excellence\, Covid-19 Response\, the Center of Excellence\, and much more! \nClick here to register.
URL:https://communityactionpartnership.com/event/fall-season-kickoff-resources-and-opportunities-for-community-action/
CATEGORIES:Webinars
END:VEVENT
END:VCALENDAR