BEGIN:VCALENDAR
VERSION:2.0
PRODID:-//National CAP - ECPv6.15.20//NONSGML v1.0//EN
CALSCALE:GREGORIAN
METHOD:PUBLISH
X-ORIGINAL-URL:https://communityactionpartnership.com
X-WR-CALDESC:Events for National CAP
REFRESH-INTERVAL;VALUE=DURATION:PT1H
X-Robots-Tag:noindex
X-PUBLISHED-TTL:PT1H
BEGIN:VTIMEZONE
TZID:UTC
BEGIN:STANDARD
TZOFFSETFROM:+0000
TZOFFSETTO:+0000
TZNAME:UTC
DTSTART:20200101T000000
END:STANDARD
END:VTIMEZONE
BEGIN:VEVENT
DTSTART;TZID=UTC:20210916T140000
DTEND;TZID=UTC:20210916T153000
DTSTAMP:20260422T223714
CREATED:20210610T145720Z
LAST-MODIFIED:20210823T133057Z
UID:69369-1631800800-1631806200@communityactionpartnership.com
SUMMARY:How to Become the Resilient Leader Your Mission Requires
DESCRIPTION:Resilience is a concept we have all learned much more about in the last year. Organizational resilience is key to continued operation and growth in complex times. Melanie Lockwood Herman\, Executive Director of the Nonprofit Risk Management Center\, will be presenting an eight-part webinar series on developing more resilient organizations with practical tools for non-profit and public organizations. Each webinar will feature concrete\, hands-on approaches to building resilience from the inside out. Melanie will break down the concept of organizational resilience into the eight key themes we all need to learn and know to strengthen our agencies and our teams. The webinars are being released in conjunction with a robust\, interactive Resilience Toolkit also available through the Partnership. \nThis final webinar of the series explores the qualities\, traits\, and skills of resilient leaders — the very type of leaders that organizations in an uncertain world require. Learn what you can do to become a leader who helps others ‘bounce back’ from downside risks your agency couldn’t avoid and draw potent learning opportunities from failures\, mistakes\, and near misses. \nClick here to register.
URL:https://communityactionpartnership.com/event/how-to-become-the-resilient-leader-your-mission-requires/
CATEGORIES:Webinars
ORGANIZER;CN="Community Action Partnership%2C National Office":MAILTO:registration@communityactionpartnership.com
END:VEVENT
END:VCALENDAR