BEGIN:VCALENDAR
VERSION:2.0
PRODID:-//National CAP - ECPv6.15.20//NONSGML v1.0//EN
CALSCALE:GREGORIAN
METHOD:PUBLISH
X-ORIGINAL-URL:https://communityactionpartnership.com
X-WR-CALDESC:Events for National CAP
REFRESH-INTERVAL;VALUE=DURATION:PT1H
X-Robots-Tag:noindex
X-PUBLISHED-TTL:PT1H
BEGIN:VTIMEZONE
TZID:UTC
BEGIN:STANDARD
TZOFFSETFROM:+0000
TZOFFSETTO:+0000
TZNAME:UTC
DTSTART:20200101T000000
END:STANDARD
END:VTIMEZONE
BEGIN:VEVENT
DTSTART;TZID=UTC:20210712T150000
DTEND;TZID=UTC:20210712T160000
DTSTAMP:20260423T061759
CREATED:20210708T195841Z
LAST-MODIFIED:20210708T195841Z
UID:69563-1626102000-1626105600@communityactionpartnership.com
SUMMARY:NCAP Community Action Agency Leaders Webinar on OCS CSBG CARES Act Rapid-Cycle Impact Projects
DESCRIPTION:This new FOA will support the CSBG CARES Act Rapid-Cycle Impact Projects goal of adapting current service models to effectively respond to immediate community needs while also testing innovative community approaches and strategies developed to prevent\, prepare for\, and respond to the effects of the COVID-19 public health emergency. Grantees will be responsible for implementing community-based projects focused on priority areas identified by OCS. Grantees will be expected to incorporate a rapid-cycle learning\, or continuous quality improvement\, approach into the implementation of their project to strengthen the implementation and effectiveness of programs and service strategies. Grantees will receive support from OCS on all aspects of this rapid-cycle learning approach and assistance in implementing it in their projects. \nClick here to register for the webinar.
URL:https://communityactionpartnership.com/event/ncap-community-action-agency-leaders-webinar-on-ocs-csbg-cares-act-rapid-cycle-impact-projects/
CATEGORIES:Webinars
END:VEVENT
BEGIN:VEVENT
DTSTART;TZID=UTC:20210715T140000
DTEND;TZID=UTC:20210715T153000
DTSTAMP:20260423T061759
CREATED:20210610T144944Z
LAST-MODIFIED:20210714T141144Z
UID:69361-1626357600-1626363000@communityactionpartnership.com
SUMMARY:Ready to Serve: How to Build and Equip a Crisis-Ready Response Team
DESCRIPTION:Resilience is a concept we have all learned much more about in the last year. Organizational resilience is key to continued operation and growth in complex times. Melanie Lockwood Herman\, Executive Director of the Nonprofit Risk Management Center\, will be presenting an eight-part webinar series on developing more resilient organizations with practical tools for non-profit and public organizations. Each webinar will feature concrete\, hands-on approaches to building resilience from the inside out. Melanie will break down the concept of organizational resilience into the eight key themes we all need to learn and know to strengthen our agencies and our teams. The webinars are being released in conjunction with a robust\, interactive Resilience Toolkit also available through the Partnership. \nThis webinar explores three critical stages to create and support a crisis response team: 1. Reflect\, 2. Plan\, and 3. Practice. You’ll learn how and when planning and response teams differ (in composition as well as emphasis)\, how to ‘bake in’ lessons from previous crisis events into your planning and response strategies\, and why and how the substance and style of your planning activities matter. The webinar also explores approaches to ‘practicing’ what you’ve built before your next crisis is at hand\, rules of thumb for your crisis team\, and takeaways you can apply to create a crisis-ready response team. \nFuture webinars in this series will be held on the third Thursday of each month and will focus on topics such as Accessing Resilience Resources from Public and Private Sources and How to Become the Resilient Leader Your Mission Requires. Register today to join this timely series. \nClick here to register.
URL:https://communityactionpartnership.com/event/ready-to-serve-how-to-build-and-equip-a-crisis-ready-response-team/
CATEGORIES:Webinars
ORGANIZER;CN="Community Action Partnership%2C National Office":MAILTO:registration@communityactionpartnership.com
END:VEVENT
END:VCALENDAR