BEGIN:VCALENDAR
VERSION:2.0
PRODID:-//National CAP - ECPv6.15.20//NONSGML v1.0//EN
CALSCALE:GREGORIAN
METHOD:PUBLISH
X-WR-CALNAME:National CAP
X-ORIGINAL-URL:https://communityactionpartnership.com
X-WR-CALDESC:Events for National CAP
REFRESH-INTERVAL;VALUE=DURATION:PT1H
X-Robots-Tag:noindex
X-PUBLISHED-TTL:PT1H
BEGIN:VTIMEZONE
TZID:UTC
BEGIN:STANDARD
TZOFFSETFROM:+0000
TZOFFSETTO:+0000
TZNAME:UTC
DTSTART:20200101T000000
END:STANDARD
END:VTIMEZONE
BEGIN:VEVENT
DTSTART;TZID=UTC:20210616T140000
DTEND;TZID=UTC:20210616T153000
DTSTAMP:20260423T022353
CREATED:20210527T195334Z
LAST-MODIFIED:20210527T195334Z
UID:69239-1623852000-1623857400@communityactionpartnership.com
SUMMARY:Data Strategy Considerations – From Collecting to Communicating
DESCRIPTION:What is your agency’s strategy around data? We often get overwhelmed by data – how to collect it\, what to collect\, aggregation\, data quality\, analysis\, visualization\, reports\, telling the story… it can feel complicated! It doesn’t have to be. Join this webinar to take a moment to consider your agency’s overall data strategy\, as well as ways to simplify and connect the pieces of the process from collecting to communicating your data. We don’t promise magic\, but small steps of improvement toward making data not so scary and instead\, useful and powerful. \nPresented by the National Community Action Partnership’s Center of Excellence. \nClick here to register.
URL:https://communityactionpartnership.com/event/data-strategy-considerations-from-collecting-to-communicating/
CATEGORIES:Webinars
END:VEVENT
BEGIN:VEVENT
DTSTART;TZID=UTC:20210617T140000
DTEND;TZID=UTC:20210617T153000
DTSTAMP:20260423T022353
CREATED:20210610T144735Z
LAST-MODIFIED:20210610T144735Z
UID:69359-1623938400-1623943800@communityactionpartnership.com
SUMMARY:Ready. . . or Not? Creating Practical\, Action-Oriented Readiness Plans
DESCRIPTION:Resilience is a concept we have all learned much more about in the last year. Organizational resilience is key to continued operation and growth in complex times. Melanie Lockwood Herman\, Executive Director of the Nonprofit Risk Management Center\, will be presenting an eight-part webinar series on developing more resilient organizations with practical tools for non-profit and public organizations. Each webinar will feature concrete\, hands-on approaches to building resilience from the inside out. Melanie will break down the concept of organizational resilience into the eight key themes we all need to learn and know to strengthen our agencies and our teams. The webinars are being released in conjunction with a robust\, interactive Resilience Toolkit also available through the Partnership. \nThis webinar begins with an overview of the features and elements that make an action plan truly actionable and continues with an overview of strategies to evaluate your agency’s readiness to face the risks you can’t avoid. Next\, learn how to apply 6 tips and techniques for creating plans that will increase your Community Action Agency’s resilience and readiness. The webinar will wrap up with practical tips and takeaways you can put to use immediately. \nFuture webinars in this series will be held on the third Thursday of each month and will focus on topics such as Ready to Serve: How to Build and Equip a Crisis-Ready Response Team\, Accessing Resilience Resources from Public and Private Sources and How to Become the Resilient Leader Your Mission Requires. Register today to join this timely series.
URL:https://communityactionpartnership.com/event/ready-or-not-creating-practical-action-oriented-readiness-plans/
CATEGORIES:Webinars
ORGANIZER;CN="Community Action Partnership%2C National Office":MAILTO:registration@communityactionpartnership.com
END:VEVENT
END:VCALENDAR