BEGIN:VCALENDAR
VERSION:2.0
PRODID:-//National CAP - ECPv6.15.20//NONSGML v1.0//EN
CALSCALE:GREGORIAN
METHOD:PUBLISH
X-ORIGINAL-URL:https://communityactionpartnership.com
X-WR-CALDESC:Events for National CAP
REFRESH-INTERVAL;VALUE=DURATION:PT1H
X-Robots-Tag:noindex
X-PUBLISHED-TTL:PT1H
BEGIN:VTIMEZONE
TZID:UTC
BEGIN:STANDARD
TZOFFSETFROM:+0000
TZOFFSETTO:+0000
TZNAME:UTC
DTSTART:20200101T000000
END:STANDARD
END:VTIMEZONE
BEGIN:VEVENT
DTSTART;VALUE=DATE:20210501
DTEND;VALUE=DATE:20210601
DTSTAMP:20260423T061757
CREATED:20210406T230518Z
LAST-MODIFIED:20210406T230518Z
UID:68413-1619827200-1622505599@communityactionpartnership.com
SUMMARY:Community Action Month
DESCRIPTION:Celebrate the Community Action legacy and continued success in helping people\, changing lives.
URL:https://communityactionpartnership.com/event/community-action-month/
CATEGORIES:CAP Events
END:VEVENT
BEGIN:VEVENT
DTSTART;TZID=UTC:20210520T110000
DTEND;TZID=UTC:20210520T120000
DTSTAMP:20260423T061757
CREATED:20210413T125210Z
LAST-MODIFIED:20210413T125210Z
UID:68502-1621508400-1621512000@communityactionpartnership.com
SUMMARY:Crisis Management and Crisis Communications
DESCRIPTION:In their book\, “The Risk Intelligent Enterprise\,” authors Funston and Wagner write that “the crisis you plan for may not be the one you experience\, but any preparation will serve you well.” While it’s virtually impossible to forecast the timing\, source\, and scope of the next crisis you’ll face\, there are steps every Community Action Agency can and should take to build crisis management and crisis communications readiness. This webinar outlines practical steps you can take this year to establish best-in-class crisis management and crisis communications capabilities. Attendees can expect to explore everything from forming crisis teams and critical operations teams to drafting statements that can be adapted to suit the crisis and more.\n\nClick here to register for the webinar.
URL:https://communityactionpartnership.com/event/crisis-management-and-crisis-communications/
CATEGORIES:Webinars
END:VEVENT
BEGIN:VEVENT
DTSTART;TZID=UTC:20210520T160000
DTEND;TZID=UTC:20210520T170000
DTSTAMP:20260423T061757
CREATED:20210507T150124Z
LAST-MODIFIED:20210507T150124Z
UID:68975-1621526400-1621530000@communityactionpartnership.com
SUMMARY:Transforming and Aligning Systems to Advance Social and Economic Mobility for Children and Families
DESCRIPTION:NCAP will present this webinar. This session will provide an overview of whole family approach including key hallmarks for advancing social and economic mobility for children and the adults in their lives together. Additionally\, the presentation will highlight opportunities for transforming and aligning systems to support this important innovation. \nPresenters: \n\nTiffney Marley\, CCAP\, Vice President\, Practice Transformation\, National Community Action Partnership\nCynthia Croom\, Ed.D.\, Executive Director\, Metropolitan Action Commission\nLiz Kuoppala\, CCAP\, Executive Director\, MAHUBE-OTWA Community Action Partnership\n\nClick here to register.
URL:https://communityactionpartnership.com/event/transforming-and-aligning-systems-to-advance-social-and-economic-mobility-for-children-and-families/
CATEGORIES:Webinars
END:VEVENT
END:VCALENDAR