BEGIN:VCALENDAR
VERSION:2.0
PRODID:-//National CAP - ECPv6.15.20//NONSGML v1.0//EN
CALSCALE:GREGORIAN
METHOD:PUBLISH
X-ORIGINAL-URL:https://communityactionpartnership.com
X-WR-CALDESC:Events for National CAP
REFRESH-INTERVAL;VALUE=DURATION:PT1H
X-Robots-Tag:noindex
X-PUBLISHED-TTL:PT1H
BEGIN:VTIMEZONE
TZID:UTC
BEGIN:STANDARD
TZOFFSETFROM:+0000
TZOFFSETTO:+0000
TZNAME:UTC
DTSTART:20200101T000000
END:STANDARD
END:VTIMEZONE
BEGIN:VEVENT
DTSTART;TZID=UTC:20210324T120000
DTEND;TZID=UTC:20210324T133000
DTSTAMP:20260423T100159
CREATED:20210211T202601Z
LAST-MODIFIED:20210319T162050Z
UID:67725-1616587200-1616592600@communityactionpartnership.com
SUMMARY:Keeping the ‘Human’ in Human Services: Tips for Implementing User-Centered Design
DESCRIPTION:The COVID-19 pandemic\, and the various challenges of the last year\, have left us stressed\, anxious\, and spread thin. The same is true for the people we are trying to serve. Join the National Community Action Partnership and U.S. Digital Response in a conversation about incorporating user-centered design elements into your workflows and services to more effectively reach and serve your communities. During this webinar\, you’ll hear about USDR’s partnership with the Empire Justice Center and how user-centered practices enabled delivery of financial services to low-income families throughout the pandemic. You’ll leave with a clearer vision for how to design your work with a distinct focus on the end user and with tangible tips\, takeaways and recommendations to humanize your processes. \nRegister Now
URL:https://communityactionpartnership.com/event/keeping-the-human-in-human-services/
CATEGORIES:Webinars
END:VEVENT
BEGIN:VEVENT
DTSTART;TZID=UTC:20210326T100000
DTEND;TZID=UTC:20210326T113000
DTSTAMP:20260423T100159
CREATED:20210325T164703Z
LAST-MODIFIED:20210325T164703Z
UID:68071-1616752800-1616758200@communityactionpartnership.com
SUMMARY:Meet and Greet with OCS Director Dr. Lanikque Howard
DESCRIPTION:Dr. Lanikque Howard was made Director of the Office of Community Services\, Administration for Children and Families (ACF) in February. Prior to her role at OCS\, she served three years in the Obama Administration in the Immediate Office of the Assistant Secretary supporting the development and implementation of ACF policy and cross-cutting initiatives. Prior to returning to ACF\, Dr. Howard was the Senior Administrator for Programs at First 5 Alameda County\, where she oversaw a number of strategic programs\, initiatives\, and partnerships aimed at addressing the causes and consequences of poverty\, reducing racial disparities\, and maximizing the potential of young children and their families.\n\nWe hope you will join us for this very special event for local Community Action Agencies. We’re excited about the opportunities ahead with Dr. Howard and all of the HHS team. This event is co-hosted by the Partnership and NCAF.\n\nClick here to register for the webinar.
URL:https://communityactionpartnership.com/event/meet-and-greet-with-ocs-director-dr-lanikque-howard/
CATEGORIES:Webinars
END:VEVENT
END:VCALENDAR