BEGIN:VCALENDAR
VERSION:2.0
PRODID:-//National CAP - ECPv6.15.20//NONSGML v1.0//EN
CALSCALE:GREGORIAN
METHOD:PUBLISH
X-WR-CALNAME:National CAP
X-ORIGINAL-URL:https://communityactionpartnership.com
X-WR-CALDESC:Events for National CAP
REFRESH-INTERVAL;VALUE=DURATION:PT1H
X-Robots-Tag:noindex
X-PUBLISHED-TTL:PT1H
BEGIN:VTIMEZONE
TZID:UTC
BEGIN:STANDARD
TZOFFSETFROM:+0000
TZOFFSETTO:+0000
TZNAME:UTC
DTSTART:20200101T000000
END:STANDARD
END:VTIMEZONE
BEGIN:VEVENT
DTSTART;TZID=UTC:20210317T140000
DTEND;TZID=UTC:20210317T150000
DTSTAMP:20260423T100136
CREATED:20210311T212118Z
LAST-MODIFIED:20210311T212118Z
UID:67933-1615989600-1615993200@communityactionpartnership.com
SUMMARY:New eCourse Release Tour: Featuring Advancing Family-Centered Coaching
DESCRIPTION:We are excited to bring you a new eCourse on Community Action Academy to help advance your agency’s practice with Family-Centered Coaching. Family-Centered Coaching is a holistic approach that moves beyond traditional case management and engages families as they access services\, set goals\, and strive to achieve their full potential. Based on open-source content developed and revised by the W.K. Kellogg Foundation and The Prosperity Agenda\, this eCourse includes videos\, reading\, scenarios\, and quizzes to help learners build coaching skills\, engage in the coaching process\, work through implicit bias\, and assess agency readiness. Access Advancing Family-Centered Coaching on Community Action Academy for free\, today! Join us on March 17th for a webinar to kick-off the release\, and provide a tour of the course components that can help you and your organization move forward in this practice. Click here to register for the webinar.
URL:https://communityactionpartnership.com/event/new-ecourse-release-tour-featuring-advancing-family-centered-coaching/
CATEGORIES:Webinars
END:VEVENT
BEGIN:VEVENT
DTSTART;TZID=UTC:20210318T140000
DTEND;TZID=UTC:20210318T153000
DTSTAMP:20260423T100136
CREATED:20210225T204752Z
LAST-MODIFIED:20210225T204752Z
UID:67827-1616076000-1616081400@communityactionpartnership.com
SUMMARY:Managing Data Equity Risk and Reward
DESCRIPTION:The term “data equity” refers to using an equity lens when considering how data is collected\, analyzed\, interpreted\, and distributed. This webinar explores the risks of failing to use an equity lens and examples of data collection practices that fall short. Attend this webinar to learn how to minimize the risks and maximize the rewards of using an equity lens to collect and use data in your Community Action Agency. \nRegister Now
URL:https://communityactionpartnership.com/event/managing-data-equity-risk-and-reward/
CATEGORIES:Webinars
END:VEVENT
END:VCALENDAR