BEGIN:VCALENDAR
VERSION:2.0
PRODID:-//National CAP - ECPv6.15.20//NONSGML v1.0//EN
CALSCALE:GREGORIAN
METHOD:PUBLISH
X-ORIGINAL-URL:https://communityactionpartnership.com
X-WR-CALDESC:Events for National CAP
REFRESH-INTERVAL;VALUE=DURATION:PT1H
X-Robots-Tag:noindex
X-PUBLISHED-TTL:PT1H
BEGIN:VTIMEZONE
TZID:UTC
BEGIN:STANDARD
TZOFFSETFROM:+0000
TZOFFSETTO:+0000
TZNAME:UTC
DTSTART:20190101T000000
END:STANDARD
END:VTIMEZONE
BEGIN:VEVENT
DTSTART;TZID=UTC:20201029T140000
DTEND;TZID=UTC:20201029T150000
DTSTAMP:20260423T140904
CREATED:20200904T152952Z
LAST-MODIFIED:20200904T152952Z
UID:65143-1603980000-1603983600@communityactionpartnership.com
SUMMARY:Evaluating Strategic Plan Progress with Agency-Wide Scorecards
DESCRIPTION:Digging Deeper into Organizational Standards 6.5 & 9.3 \nOrganizational Standards 6.5 and 9.3 focus on reporting progress toward strategic plan goals (6.5)\, as well as an analysis of outcomes and associated adjustments to the board on at least an annual basis. While the minimum requirement is to report this information once a year\, there are ways to involve the Board and communicate the information clearly so they can better fulfill their role of governance and oversight. Join this webinar to learn about meeting this standard\, as well as utilizing a scorecard or dashboard to organize and communicate data\, as well as other promising practices to move beyond compliance. \nRegister Here
URL:https://communityactionpartnership.com/event/evaluating-strategic-plan-progress-with-agency-wide-scorecards/
CATEGORIES:Webinars
END:VEVENT
END:VCALENDAR