BEGIN:VCALENDAR
VERSION:2.0
PRODID:-//National CAP - ECPv6.15.20//NONSGML v1.0//EN
CALSCALE:GREGORIAN
METHOD:PUBLISH
X-ORIGINAL-URL:https://communityactionpartnership.com
X-WR-CALDESC:Events for National CAP
REFRESH-INTERVAL;VALUE=DURATION:PT1H
X-Robots-Tag:noindex
X-PUBLISHED-TTL:PT1H
BEGIN:VTIMEZONE
TZID:UTC
BEGIN:STANDARD
TZOFFSETFROM:+0000
TZOFFSETTO:+0000
TZNAME:UTC
DTSTART:20190101T000000
END:STANDARD
END:VTIMEZONE
BEGIN:VEVENT
DTSTART;TZID=UTC:20201013T120000
DTEND;TZID=UTC:20201013T133000
DTSTAMP:20260423T210219
CREATED:20200923T144742Z
LAST-MODIFIED:20200923T144742Z
UID:65837-1602590400-1602595800@communityactionpartnership.com
SUMMARY:State Policy Series #3: Head Start & Early Head Start Advocacy in the States: Strategies that Work!
DESCRIPTION:Securing state support for Head Start and Early Head Start requires bringing together family voices\, program leadership\, partners and a clear policy solution or solutions. On this 3rd in a three-part webinar series from the National Head Start Association\, the National Community Action Partnership and ZERO TO THREE\, hear from two campaign teams in Idaho and Oregon about strategies and approaches that worked (and are working) for them. You will walk away with clear examples of how to build support for Head Start and Early Head Start’s comprehensive services in your state! \nRegister
URL:https://communityactionpartnership.com/event/state-policy-series-3-head-start-early-head-start-advocacy-in-the-states-strategies-that-work/
CATEGORIES:Webinars
END:VEVENT
BEGIN:VEVENT
DTSTART;TZID=UTC:20201013T130000
DTEND;TZID=UTC:20201013T143000
DTSTAMP:20260423T210219
CREATED:20201007T180537Z
LAST-MODIFIED:20201007T180537Z
UID:66011-1602594000-1602599400@communityactionpartnership.com
SUMMARY:CCAP CANDIDATE DATA FORM GUIDANCE
DESCRIPTION:Presented by Jim Lopresti: \nCompleting the Candidate Data Form (CDF) is the first step in the process of becoming a Certified Community Action Professional (CCAP). It is formatted for you to document your learning and experiences in the field of Community Action. In this webinar you will explore the parts of the CDF in great detail and gain valuable insights on how you can complete your own first step toward national recognition as a CCAP. \nTo register\, click here.
URL:https://communityactionpartnership.com/event/ccap-candidate-data-form-guidance/
CATEGORIES:Webinars
END:VEVENT
END:VCALENDAR