BEGIN:VCALENDAR
VERSION:2.0
PRODID:-//National CAP - ECPv6.15.20//NONSGML v1.0//EN
CALSCALE:GREGORIAN
METHOD:PUBLISH
X-WR-CALNAME:National CAP
X-ORIGINAL-URL:https://communityactionpartnership.com
X-WR-CALDESC:Events for National CAP
REFRESH-INTERVAL;VALUE=DURATION:PT1H
X-Robots-Tag:noindex
X-PUBLISHED-TTL:PT1H
BEGIN:VTIMEZONE
TZID:UTC
BEGIN:STANDARD
TZOFFSETFROM:+0000
TZOFFSETTO:+0000
TZNAME:UTC
DTSTART:20190101T000000
END:STANDARD
END:VTIMEZONE
BEGIN:VEVENT
DTSTART;TZID=UTC:20201006T150000
DTEND;TZID=UTC:20201006T163000
DTSTAMP:20260423T210203
CREATED:20200921T133624Z
LAST-MODIFIED:20201001T151554Z
UID:65635-1601996400-1602001800@communityactionpartnership.com
SUMMARY:Community Solar Model in Oregon
DESCRIPTION:Community Action Partnership of Oregon (CAPO) is on the leading edge with launching community solar for households with low incomes. Partnering with CAP Solar\, CAPO has been able to raise significant funding from investors and keep rates low for households. This work has taken perseverance and been years in the making. Join in on this session to learn more about how you may be able to take your next step with bringing solar to your community. \nRegister
URL:https://communityactionpartnership.com/event/community-solar-model-in-oregon/
CATEGORIES:Webinars
END:VEVENT
BEGIN:VEVENT
DTSTART;TZID=UTC:20201008T140000
DTEND;TZID=UTC:20201008T150000
DTSTAMP:20260423T210203
CREATED:20200904T152749Z
LAST-MODIFIED:20200924T154118Z
UID:65141-1602165600-1602169200@communityactionpartnership.com
SUMMARY:The Board’s Role in Setting the Mission & Direction of the CAA
DESCRIPTION:Digging Deeper into Organizational Standard 4.1 \nOrganizational Standard 4.1 states that the Board reviews the organization’s mission statement within the last 5 years and ensures that it addresses poverty and the programs and services of the agency align with it. While the minimum requirement is the review\, the Board has a fundamental duty to set the mission and direction of the organization. Join this webinar to learn about meeting this standard\, as well as leveraging Strategic Planning (Category 6) and promising practices to move beyond compliance. \nRegister Here
URL:https://communityactionpartnership.com/event/the-boards-role-in-setting-the-mission-direction-of-the-caa/
CATEGORIES:Webinars
END:VEVENT
END:VCALENDAR