BEGIN:VCALENDAR
VERSION:2.0
PRODID:-//National CAP - ECPv6.15.20//NONSGML v1.0//EN
CALSCALE:GREGORIAN
METHOD:PUBLISH
X-WR-CALNAME:National CAP
X-ORIGINAL-URL:https://communityactionpartnership.com
X-WR-CALDESC:Events for National CAP
REFRESH-INTERVAL;VALUE=DURATION:PT1H
X-Robots-Tag:noindex
X-PUBLISHED-TTL:PT1H
BEGIN:VTIMEZONE
TZID:UTC
BEGIN:STANDARD
TZOFFSETFROM:+0000
TZOFFSETTO:+0000
TZNAME:UTC
DTSTART:20190101T000000
END:STANDARD
END:VTIMEZONE
BEGIN:VEVENT
DTSTART;TZID=UTC:20200930T140000
DTEND;TZID=UTC:20200930T153000
DTSTAMP:20260423T222723
CREATED:20200922T191934Z
LAST-MODIFIED:20200922T191934Z
UID:65804-1601474400-1601479800@communityactionpartnership.com
SUMMARY:Leveraging Crisis as a Springboard for Action and Innovation
DESCRIPTION:During this session\, participants will hear Garrett County Community Action Committee Inc.’s ARRA story and the ways that it motivated the agency’s shift to service integration and 2Gen/Whole Family Approach initiatives. Additionally\, the Garrett County team will share opportunities or areas of pivot that staff are currently considering in the current crisis to inspire other CAAs to be more strategic with their CARES investments. \nRegister Here
URL:https://communityactionpartnership.com/event/leveraging-crisis-as-a-springboard-for-action-and-innovation/
CATEGORIES:Webinars
END:VEVENT
END:VCALENDAR