BEGIN:VCALENDAR
VERSION:2.0
PRODID:-//National CAP - ECPv6.15.20//NONSGML v1.0//EN
CALSCALE:GREGORIAN
METHOD:PUBLISH
X-ORIGINAL-URL:https://communityactionpartnership.com
X-WR-CALDESC:Events for National CAP
REFRESH-INTERVAL;VALUE=DURATION:PT1H
X-Robots-Tag:noindex
X-PUBLISHED-TTL:PT1H
BEGIN:VTIMEZONE
TZID:UTC
BEGIN:STANDARD
TZOFFSETFROM:+0000
TZOFFSETTO:+0000
TZNAME:UTC
DTSTART:20190101T000000
END:STANDARD
END:VTIMEZONE
BEGIN:VEVENT
DTSTART;TZID=UTC:20200915T140000
DTEND;TZID=UTC:20200915T153000
DTSTAMP:20260423T235507
CREATED:20200910T173729Z
LAST-MODIFIED:20200910T173729Z
UID:65250-1600178400-1600183800@communityactionpartnership.com
SUMMARY:Water and Energy Programs Amidst COVID-19: Spotlight on Arizona
DESCRIPTION:Water and energy program funding has been critical for families impacted by COVID-19. Join in on this national webinar to hear from colleagues in Arizona on how they have risen to the challenge\, and are innovating with technology to ensure a more safe and streamlined program model. \nRegister
URL:https://communityactionpartnership.com/event/water-and-energy-programs-amidst-covid-19-spotlight-on-arizona/
CATEGORIES:Webinars
END:VEVENT
BEGIN:VEVENT
DTSTART;TZID=UTC:20200917T140000
DTEND;TZID=UTC:20200917T150000
DTSTAMP:20260423T235507
CREATED:20200904T152005Z
LAST-MODIFIED:20200904T152248Z
UID:65134-1600351200-1600354800@communityactionpartnership.com
SUMMARY:From Risk Assessment to Comprehensive Risk Management
DESCRIPTION:Digging Deeper into Organizational Standard 4.6 \nOrganizational Standard 4.6 requires an organization-wide\, comprehensive risk assessment to be done every two years and reported to the governing board. While the minimum requirement is the assessment and reporting to the board\, it requires action and follow-up by the agency to benefit from the assessment. Join this webinar to learn about meeting this standard\, as well as risk management tools\, resources\, and promising practices to move beyond compliance. \nRegister Here
URL:https://communityactionpartnership.com/event/from-risk-assessment-to-comprehensive-risk-management/
CATEGORIES:Webinars
END:VEVENT
END:VCALENDAR