BEGIN:VCALENDAR
VERSION:2.0
PRODID:-//National CAP - ECPv6.15.20//NONSGML v1.0//EN
CALSCALE:GREGORIAN
METHOD:PUBLISH
X-ORIGINAL-URL:https://communityactionpartnership.com
X-WR-CALDESC:Events for National CAP
REFRESH-INTERVAL;VALUE=DURATION:PT1H
X-Robots-Tag:noindex
X-PUBLISHED-TTL:PT1H
BEGIN:VTIMEZONE
TZID:UTC
BEGIN:STANDARD
TZOFFSETFROM:+0000
TZOFFSETTO:+0000
TZNAME:UTC
DTSTART:20190101T000000
END:STANDARD
END:VTIMEZONE
BEGIN:VEVENT
DTSTART;TZID=UTC:20200520T140000
DTEND;TZID=UTC:20200520T153000
DTSTAMP:20260424T061052
CREATED:20200506T170100Z
LAST-MODIFIED:20200506T170100Z
UID:62002-1589983200-1589988600@communityactionpartnership.com
SUMMARY:Conducting a Community Assessment during the COVID-19 Pandemic
DESCRIPTION:The Community Needs Assessment (CNA) is an important part of planning for Community Action in response to local community needs and resources.  Part of this CNA process includes data collection that is traditionally done in-person\, such as focus groups\, key informant interviews\, or town hall meetings.  Modifications that can be made to the CNA process will be discussed\, as well as techniques for data prioritization as agencies are juggling both long-standing and crisis needs.  In addition\, this webinar will review the COVID-19 Community Assessment Update Template & Data Resource Guide as one option for a tool to update the CNA to assist with identifying needs to address in light of the COVID-19 pandemic. \nPresenters:  Aaron Wicks & Courtney Kohler – National Community Action Partnership |  Jamie Kleinsorge – CARES\, University of Missouri \nRegister Here
URL:https://communityactionpartnership.com/event/conducting-a-community-assessment-during-the-covid-19-pandemic/
CATEGORIES:Webinars
END:VEVENT
BEGIN:VEVENT
DTSTART;TZID=UTC:20200521T150000
DTEND;TZID=UTC:20200521T163000
DTSTAMP:20260424T061052
CREATED:20200414T140951Z
LAST-MODIFIED:20200414T140951Z
UID:61303-1590073200-1590078600@communityactionpartnership.com
SUMMARY:Community Action Network COVID-19 Weekly Update
DESCRIPTION:Join Community Action National Partners CAP\, CAPLAW and NASCSP for a weekly update on the impact of COVID-19 on the network\, every Thursday at 3 ET / 2 CT / 1 MT / 12 PT  (3 AST / 10 AKST / 9 HST). NCAF will participate as schedules allow. \nThe content for these national partner calls will vary from week to week and the calls are intended to be a standing meeting for the Network to share information and hear about issues as needed. There will be no standing agenda\, per se\, and it will vary depending on the given issues at the moment. Those who can attend are welcome to do so and this is open to the entire Community Action Network. You will need to register for these events by following the links at the top of the page. These meetings will likely go beyond the four weeks\, but we will assess the frequency\, accessibility\, and usefulness to ensure the next phase of meetings meets the Network’s needs. \nThere will still be other webinars offered by the National Partners on specific content and we recognize that the information coming at all of us right now is like a fire hose. We will do our best to make the best use of our communication with you. \nWhile we may be physically distant\, it is imperative that we stay connected during this time. We want to hear from you and be able to share information during this challenging time. \nEach session will allow for questions to be submitted and we will do our best to address them. \nCommunity Action cares about the entire community. And now more than ever we are helping people help themselves and each other. Thank you for all you are doing. \nRegister
URL:https://communityactionpartnership.com/event/community-action-network-covid-19-weekly-update-6/
CATEGORIES:Webinars
END:VEVENT
END:VCALENDAR