BEGIN:VCALENDAR
VERSION:2.0
PRODID:-//National CAP - ECPv6.15.20//NONSGML v1.0//EN
CALSCALE:GREGORIAN
METHOD:PUBLISH
X-ORIGINAL-URL:https://communityactionpartnership.com
X-WR-CALDESC:Events for National CAP
REFRESH-INTERVAL;VALUE=DURATION:PT1H
X-Robots-Tag:noindex
X-PUBLISHED-TTL:PT1H
BEGIN:VTIMEZONE
TZID:UTC
BEGIN:STANDARD
TZOFFSETFROM:+0000
TZOFFSETTO:+0000
TZNAME:UTC
DTSTART:20190101T000000
END:STANDARD
END:VTIMEZONE
BEGIN:VEVENT
DTSTART;VALUE=DATE:20200513
DTEND;VALUE=DATE:20200516
DTSTAMP:20260424T060921
CREATED:20200312T195214Z
LAST-MODIFIED:20200312T195214Z
UID:60174-1589328000-1589587199@communityactionpartnership.com
SUMMARY:Alliance Executive Leadership Conference
DESCRIPTION:The Alliance Executive Leadership Conference features an open and supportive atmosphere for an intentionally sized group of 60 peer chief executives from across our strategic action network. Access to outstanding facilitators and thought leaders creates an environment for learning that transcends day-to-day operations and becomes an inflection point for vision\, clarity\, and strategy. The conference offers a refuge for reinvention and the enduring camaraderie of your Alliance network leaders\, who will continue enrich your personal network and be an ongoing source for ideas and solutions. \nClick here to learn more and register.
URL:https://communityactionpartnership.com/event/alliance-executive-leadership-conference/
CATEGORIES:National Partner Events
END:VEVENT
BEGIN:VEVENT
DTSTART;TZID=UTC:20200513T140000
DTEND;TZID=UTC:20200513T153000
DTSTAMP:20260424T060921
CREATED:20200206T224242Z
LAST-MODIFIED:20200508T145730Z
UID:59559-1589378400-1589383800@communityactionpartnership.com
SUMMARY:Delivering Human Services and Workforce Development Remotely
DESCRIPTION:This webinar will focus on insights on best practices in facilitating human service and workforce development programs in response to COVID-19- both from an organizational perspective on how to support your staff\, but also from a people perspective on how to support your customers. In each section\, ICF will discuss emerging research and creative strategies states are utilizing to adapt to a shifting human services and workforce environment. \nRegister Here
URL:https://communityactionpartnership.com/event/universal-assessment-for-workforce-development-programs/
CATEGORIES:Webinars
END:VEVENT
BEGIN:VEVENT
DTSTART;TZID=UTC:20200513T140000
DTEND;TZID=UTC:20200513T153000
DTSTAMP:20260424T060921
CREATED:20200421T141253Z
LAST-MODIFIED:20200421T141253Z
UID:61611-1589378400-1589383800@communityactionpartnership.com
SUMMARY:CCAP Examination
DESCRIPTION:While the CDF documents Community Action experience and the ESP is the candidate’s means to communicate Community Action skills\, the examination is the method to demonstrate mastery of the knowledge base expected of Community Action leaders. Objectives: \n\nIdentify the route to qualifying to sit for the examination\nUnderstand the online testing methods and types of questions used in the examination\nUnderstand how source materials are to be used in preparation for the examination (the Study Guide)\nIdentify the options open to candidates to prepare for the examination\n\nRegister
URL:https://communityactionpartnership.com/event/ccap-examination/
CATEGORIES:Webinars
END:VEVENT
BEGIN:VEVENT
DTSTART;TZID=UTC:20200514T150000
DTEND;TZID=UTC:20200514T163000
DTSTAMP:20260424T060921
CREATED:20200414T141144Z
LAST-MODIFIED:20200414T141144Z
UID:61305-1589468400-1589473800@communityactionpartnership.com
SUMMARY:Community Action Network COVID-19 Weekly Update
DESCRIPTION:Join Community Action National Partners CAP\, CAPLAW and NASCSP for a weekly update on the impact of COVID-19 on the network\, every Thursday at 3 ET / 2 CT / 1 MT / 12 PT  (3 AST / 10 AKST / 9 HST). NCAF will participate as schedules allow. \nThe content for these national partner calls will vary from week to week and the calls are intended to be a standing meeting for the Network to share information and hear about issues as needed. There will be no standing agenda\, per se\, and it will vary depending on the given issues at the moment. Those who can attend are welcome to do so and this is open to the entire Community Action Network. You will need to register for these events by following the links at the top of the page. These meetings will likely go beyond the four weeks\, but we will assess the frequency\, accessibility\, and usefulness to ensure the next phase of meetings meets the Network’s needs. \nThere will still be other webinars offered by the National Partners on specific content and we recognize that the information coming at all of us right now is like a fire hose. We will do our best to make the best use of our communication with you. \nWhile we may be physically distant\, it is imperative that we stay connected during this time. We want to hear from you and be able to share information during this challenging time. \nEach session will allow for questions to be submitted and we will do our best to address them. \nCommunity Action cares about the entire community. And now more than ever we are helping people help themselves and each other. Thank you for all you are doing. \nRegister
URL:https://communityactionpartnership.com/event/community-action-network-covid-19-weekly-update-7/
CATEGORIES:Webinars
END:VEVENT
END:VCALENDAR