BEGIN:VCALENDAR
VERSION:2.0
PRODID:-//National CAP - ECPv6.15.20//NONSGML v1.0//EN
CALSCALE:GREGORIAN
METHOD:PUBLISH
X-ORIGINAL-URL:https://communityactionpartnership.com
X-WR-CALDESC:Events for National CAP
REFRESH-INTERVAL;VALUE=DURATION:PT1H
X-Robots-Tag:noindex
X-PUBLISHED-TTL:PT1H
BEGIN:VTIMEZONE
TZID:UTC
BEGIN:STANDARD
TZOFFSETFROM:+0000
TZOFFSETTO:+0000
TZNAME:UTC
DTSTART:20190101T000000
END:STANDARD
END:VTIMEZONE
BEGIN:VEVENT
DTSTART;TZID=UTC:20200330T160000
DTEND;TZID=UTC:20200330T170000
DTSTAMP:20260424T030340
CREATED:20200326T194158Z
LAST-MODIFIED:20200327T205043Z
UID:60453-1585584000-1585587600@communityactionpartnership.com
SUMMARY:Remote Workforce Tech Solutions for COVID-19
DESCRIPTION:Please join the upcoming Remote Workforce Tech Solutions for COVID-19 webinar\, hosted by the National Community Action Partnership \, National Head Start Association\, and Wipfli\, to hear how to rapidly set up your technology environment to handle your remote workforce. Wipfli’s senior manager and nonprofit technology guru\, Ryan Peasley\, will be sharing three solutions to address the needs of our network. These are quick\, cost-effective approaches to address the most critical issues many members of the network are facing in response to the pandemic. \nClick here to register.
URL:https://communityactionpartnership.com/event/remote-workforce-tech-solutions-for-covid-19/
CATEGORIES:Webinars
END:VEVENT
BEGIN:VEVENT
DTSTART;TZID=UTC:20200402T150000
DTEND;TZID=UTC:20200402T163000
DTSTAMP:20260424T030340
CREATED:20200327T193020Z
LAST-MODIFIED:20200331T124038Z
UID:60555-1585839600-1585845000@communityactionpartnership.com
SUMMARY:Community Action Network COVID-19 Weekly Update
DESCRIPTION:Join Community Action National Partners CAP\, CAPLAW and NASCSP for a weekly update on the impact of COVID-19 on the network\, taking place every Thursday at 3 ET / 2 CT / 1 MT / 12 PT (3 AST / 10 AKST / 9 HST) beginning on April 2\, 2020.  \nThe content for these national partner calls will vary from week to week and the calls are intended to be a standing meeting for the Network to share information and hear about issues as needed. There will be no standing agenda\, per se\, and it will vary depending on the given issues at the moment. Those who can attend are welcome to do so and this is open to the entire Community Action Network. These meetings will likely go beyond the four weeks\, but we will assess the frequency\, accessibility\, and usefulness to ensure the next phase of meetings meets the Network’s needs. \nThere will still be other webinars offered by the National Partners on specific content and we recognize that the information coming at all of us right now is like a fire hose. We will do our best to make the best use of our communication with you. \nWhile we may be physically distant\, it is imperative that we stay connected during this time. We want to hear from you and be able to share information during this challenging time. \nEach session will allow for questions to be submitted and we will do our best to address them. \nCommunity Action cares about the entire community. And now more than ever we are helping people help themselves and each other. Thank you for all you are doing. \nREGISTER: April 2 | April 9 | April 16 | April 23
URL:https://communityactionpartnership.com/event/community-action-network-covid-19-weekly-update/
CATEGORIES:Webinars
END:VEVENT
END:VCALENDAR