BEGIN:VCALENDAR
VERSION:2.0
PRODID:-//National CAP - ECPv6.15.20//NONSGML v1.0//EN
CALSCALE:GREGORIAN
METHOD:PUBLISH
X-WR-CALNAME:National CAP
X-ORIGINAL-URL:https://communityactionpartnership.com
X-WR-CALDESC:Events for National CAP
REFRESH-INTERVAL;VALUE=DURATION:PT1H
X-Robots-Tag:noindex
X-PUBLISHED-TTL:PT1H
BEGIN:VTIMEZONE
TZID:UTC
BEGIN:STANDARD
TZOFFSETFROM:+0000
TZOFFSETTO:+0000
TZNAME:UTC
DTSTART:20190101T000000
END:STANDARD
END:VTIMEZONE
BEGIN:VEVENT
DTSTART;TZID=UTC:20200326T140000
DTEND;TZID=UTC:20200326T153000
DTSTAMP:20260424T044416
CREATED:20200305T215030Z
LAST-MODIFIED:20200305T215030Z
UID:60037-1585231200-1585236600@communityactionpartnership.com
SUMMARY:New Training Available for WAP Administrative Professionals
DESCRIPTION:The U.S Department of Energy (DOE) Weatherization Assistance Program (WAP) announces the launch of Training for WAP Administrative Professionals. Developed in response to WAP network feedback\, these self-paced online trainings are designed for WAP Subgrantee staff\, yet are applicable to Grantees\, subcontractors\, and WAP stakeholders. \nTraining topics include:  Budget and planning; Procurement; Fiscal tasks; Client relations; Economics of weatherization; Management; Quality improvement; and Multifamily. Access the training. \nTo create an account\, please click on the link associated with “first time logging in” and use “waptraining” for the code. Follow the instructions sent to your email to complete registration. \nClick here to register for the webinar.
URL:https://communityactionpartnership.com/event/new-training-available-for-wap-administrative-professionals/
CATEGORIES:Webinars
END:VEVENT
BEGIN:VEVENT
DTSTART;TZID=UTC:20200327T140000
DTEND;TZID=UTC:20200327T153000
DTSTAMP:20260424T044416
CREATED:20200323T222227Z
LAST-MODIFIED:20200326T181130Z
UID:60397-1585317600-1585323000@communityactionpartnership.com
SUMMARY:Crisis Communications Town Hall - Top Ten Things to Know
DESCRIPTION:Join the Partnership’s Denise Harlow and consultant Ketayoun Darvich-Kodjouri for a special crisis communications town hall. Ketayoun will walk through the 10 things you need to know about crisis communications followed by a discussion with a panel of peers. After the panel\, attendees will have the opportunity to participate in a Q&A. \nRegister
URL:https://communityactionpartnership.com/event/crisis-communications-town-hall-top-ten-things-to-do/
CATEGORIES:Webinars
END:VEVENT
END:VCALENDAR