BEGIN:VCALENDAR
VERSION:2.0
PRODID:-//National CAP - ECPv6.15.20//NONSGML v1.0//EN
CALSCALE:GREGORIAN
METHOD:PUBLISH
X-WR-CALNAME:National CAP
X-ORIGINAL-URL:https://communityactionpartnership.com
X-WR-CALDESC:Events for National CAP
REFRESH-INTERVAL;VALUE=DURATION:PT1H
X-Robots-Tag:noindex
X-PUBLISHED-TTL:PT1H
BEGIN:VTIMEZONE
TZID:UTC
BEGIN:STANDARD
TZOFFSETFROM:+0000
TZOFFSETTO:+0000
TZNAME:UTC
DTSTART:20190101T000000
END:STANDARD
END:VTIMEZONE
BEGIN:VEVENT
DTSTART;TZID=UTC:20200318T130000
DTEND;TZID=UTC:20200318T143000
DTSTAMP:20260424T102245
CREATED:20200316T154419Z
LAST-MODIFIED:20200316T154419Z
UID:60261-1584536400-1584541800@communityactionpartnership.com
SUMMARY:Community Action and Coronavirus Preparedness
DESCRIPTION:The National Community Action Foundation (NCAF) hosts a panel to consider the Community Action Network’s coronavirus preparedness. We will hear from a public health expert and have all the national partners on the line — NCAF\, the Community Action Partnership\, CAPLAW and NASCSP — to discuss the challenges confronting Community Action Agencies (CAAs) in the context of the novel coronavirus outbreak. \nRegister
URL:https://communityactionpartnership.com/event/community-action-and-coronavirus-preparedness/
CATEGORIES:Webinars
END:VEVENT
END:VCALENDAR