BEGIN:VCALENDAR
VERSION:2.0
PRODID:-//National CAP - ECPv6.15.20//NONSGML v1.0//EN
CALSCALE:GREGORIAN
METHOD:PUBLISH
X-WR-CALNAME:National CAP
X-ORIGINAL-URL:https://communityactionpartnership.com
X-WR-CALDESC:Events for National CAP
REFRESH-INTERVAL;VALUE=DURATION:PT1H
X-Robots-Tag:noindex
X-PUBLISHED-TTL:PT1H
BEGIN:VTIMEZONE
TZID:UTC
BEGIN:STANDARD
TZOFFSETFROM:+0000
TZOFFSETTO:+0000
TZNAME:UTC
DTSTART:20190101T000000
END:STANDARD
END:VTIMEZONE
BEGIN:VEVENT
DTSTART;TZID=UTC:20200219T140000
DTEND;TZID=UTC:20200219T153000
DTSTAMP:20260424T130915
CREATED:20200206T223046Z
LAST-MODIFIED:20200206T223046Z
UID:59553-1582120800-1582126200@communityactionpartnership.com
SUMMARY:Leading through Innovation with Mahube-Otwa Community Action Partnership
DESCRIPTION:Register Here
URL:https://communityactionpartnership.com/event/leading-through-innovation-with-mahube-otwa-community-action-partnership/
CATEGORIES:Webinars
END:VEVENT
END:VCALENDAR