BEGIN:VCALENDAR
VERSION:2.0
PRODID:-//National CAP - ECPv6.15.20//NONSGML v1.0//EN
CALSCALE:GREGORIAN
METHOD:PUBLISH
X-WR-CALNAME:National CAP
X-ORIGINAL-URL:https://communityactionpartnership.com
X-WR-CALDESC:Events for National CAP
REFRESH-INTERVAL;VALUE=DURATION:PT1H
X-Robots-Tag:noindex
X-PUBLISHED-TTL:PT1H
BEGIN:VTIMEZONE
TZID:UTC
BEGIN:STANDARD
TZOFFSETFROM:+0000
TZOFFSETTO:+0000
TZNAME:UTC
DTSTART:20190101T000000
END:STANDARD
END:VTIMEZONE
BEGIN:VEVENT
DTSTART;TZID=UTC:20200212T140000
DTEND;TZID=UTC:20200212T153000
DTSTAMP:20260424T085744
CREATED:20200102T192629Z
LAST-MODIFIED:20200102T192629Z
UID:58996-1581516000-1581521400@communityactionpartnership.com
SUMMARY:Community Level Impact: El Centro de la Raza's Housing and Commercial Development Project
DESCRIPTION:Register Here  \nThe Plaza Roberto Maestas Affordable Housing development project highlights an integrated approach to housing\, land use\, environmental planning\, public transportation\, community infrastructure\, and aligned workforce opportunities. The project consists of 112 apartments in two buildings for low-income residents\, a 7-classroom expansion of El Centro’s award-winning José Martí Child Development Center\, a new community cultural center\, office space and neighborhood retail/restaurant space. Anchoring the project is a 10\,000 square foot central plaza for residents and the greater Beacon Hill community to enjoy that celebrates Latino history. \n 
URL:https://communityactionpartnership.com/event/community-level-impact-el-centro-de-la-razas-housing-and-commercial-development-project/
CATEGORIES:Webinars
END:VEVENT
BEGIN:VEVENT
DTSTART;TZID=UTC:20200213T160000
DTEND;TZID=UTC:20200213T173000
DTSTAMP:20260424T085744
CREATED:20200205T104010Z
LAST-MODIFIED:20200205T104010Z
UID:59458-1581609600-1581615000@communityactionpartnership.com
SUMMARY:Census 2020 for Public CAAs
DESCRIPTION:Public agencies work with multiple people every day\, mostly from populations that are typically under counted in the U.S. Census. Join this webinar to learn how to raise awareness in your community so that residents know that completing the Census form is safe\, easy\, and important. \nRegister here.
URL:https://communityactionpartnership.com/event/census-2020-for-public-caas/
CATEGORIES:Webinars
END:VEVENT
END:VCALENDAR