BEGIN:VCALENDAR
VERSION:2.0
PRODID:-//National CAP - ECPv6.15.20//NONSGML v1.0//EN
CALSCALE:GREGORIAN
METHOD:PUBLISH
X-WR-CALNAME:National CAP
X-ORIGINAL-URL:https://communityactionpartnership.com
X-WR-CALDESC:Events for National CAP
REFRESH-INTERVAL;VALUE=DURATION:PT1H
X-Robots-Tag:noindex
X-PUBLISHED-TTL:PT1H
BEGIN:VTIMEZONE
TZID:UTC
BEGIN:STANDARD
TZOFFSETFROM:+0000
TZOFFSETTO:+0000
TZNAME:UTC
DTSTART:20180101T000000
END:STANDARD
END:VTIMEZONE
BEGIN:VEVENT
DTSTART;TZID=UTC:20190916T140000
DTEND;TZID=UTC:20190916T153000
DTSTAMP:20260424T160628
CREATED:20190906T163819Z
LAST-MODIFIED:20190906T163819Z
UID:54690-1568642400-1568647800@communityactionpartnership.com
SUMMARY:Social Media Webinar
DESCRIPTION:Join us for an overview of the many resources available to support your CAA’s social media presence. Find out how to use Facebook and Twitter to promote your events and programs. Staff from West Virginia Community Action Partnership will share their tips for social media engagement and ways the network could benefit from using social media. \nRegister
URL:https://communityactionpartnership.com/event/social-media-webinar/
CATEGORIES:Webinars
END:VEVENT
BEGIN:VEVENT
DTSTART;TZID=UTC:20190918T140000
DTEND;TZID=UTC:20190918T153000
DTSTAMP:20260424T160628
CREATED:20190717T213539Z
LAST-MODIFIED:20190717T213539Z
UID:54130-1568815200-1568820600@communityactionpartnership.com
SUMMARY:Building Credit for Your Renters: How to Report Rent Payments to the National Credit Bureaus
DESCRIPTION:Reporting rental payments is a proven strategy that offers low-income renters an opportunity to build credit as a financial asset without taking on additional debt. This webinar will feature\,  Talia Kahn-Kravis\, from the Credit Builders Association\, who will discuss the CBA-Esusu Rent Reporter platform\, a tool CAAs that own and manage rental housing property can use to help their renters build their credit scores by reporting their rent payments to the three national credit bureaus \nRegister Here \n 
URL:https://communityactionpartnership.com/event/building-credit-for-your-renters-how-to-report-rent-payments-to-the-national-credit-bureaus/
CATEGORIES:Webinars
END:VEVENT
BEGIN:VEVENT
DTSTART;TZID=UTC:20190919T140000
DTEND;TZID=UTC:20190919T153000
DTSTAMP:20260424T160628
CREATED:20190812T165748Z
LAST-MODIFIED:20190812T170005Z
UID:54519-1568901600-1568907000@communityactionpartnership.com
SUMMARY:Google Nest – Discounts on Thermostats for Low Income Households
DESCRIPTION:Google Nest is working to address the high energy burdens that affect so many in the communities we serve. Through the Power Project\, they are committed to making one million of the Nest Thermostat E available at reduced pricing to low-income home energy programs. That discount is available to any organization that addresses the energy needs of low- and moderate-income households – including those of you administering the Weatherization Assistance Program\, the Low Income Home Energy Assistance Program\, and/or affordable housing programs. Serj Berelson\, Manager for Energy Regulatory Affairs\, Google Home/Nest Products\, will be sharing more details about how you can take advantage of this opportunity\, so don’t miss out! \nRegister
URL:https://communityactionpartnership.com/event/google-nest-discounts-on-thermostats-for-low-income-households/
CATEGORIES:Webinars
END:VEVENT
BEGIN:VEVENT
DTSTART;TZID=UTC:20190919T140000
DTEND;TZID=UTC:20190919T153000
DTSTAMP:20260424T160628
CREATED:20190906T184303Z
LAST-MODIFIED:20190906T184303Z
UID:54706-1568901600-1568907000@communityactionpartnership.com
SUMMARY:Community Level Work Service: Performance Management and Community Level Performance - Traumatic Stress and CED as Case Studies
DESCRIPTION:Register
URL:https://communityactionpartnership.com/event/community-level-work-service-performance-management-and-community-level-performance-traumatic-stress-and-ced-as-case-studies/
CATEGORIES:Webinars
END:VEVENT
END:VCALENDAR