BEGIN:VCALENDAR
VERSION:2.0
PRODID:-//National CAP - ECPv6.15.20//NONSGML v1.0//EN
CALSCALE:GREGORIAN
METHOD:PUBLISH
X-ORIGINAL-URL:https://communityactionpartnership.com
X-WR-CALDESC:Events for National CAP
REFRESH-INTERVAL;VALUE=DURATION:PT1H
X-Robots-Tag:noindex
X-PUBLISHED-TTL:PT1H
BEGIN:VTIMEZONE
TZID:UTC
BEGIN:STANDARD
TZOFFSETFROM:+0000
TZOFFSETTO:+0000
TZNAME:UTC
DTSTART:20180101T000000
END:STANDARD
END:VTIMEZONE
BEGIN:VEVENT
DTSTART;VALUE=DATE:20190828
DTEND;VALUE=DATE:20190831
DTSTAMP:20260424T144352
CREATED:20190802T181442Z
LAST-MODIFIED:20190802T181442Z
UID:54376-1566950400-1567209599@communityactionpartnership.com
SUMMARY:2019 Annual Convention
DESCRIPTION:The Annual Convention is designed to provide Community Action professionals and board members with the latest in policy and programmatic updates\, as well as management and governance tools. \nClick here for more information and registration. 
URL:https://communityactionpartnership.com/event/2019-annual-convention/
CATEGORIES:Annual Convention
END:VEVENT
END:VCALENDAR