BEGIN:VCALENDAR
VERSION:2.0
PRODID:-//National CAP - ECPv6.15.20//NONSGML v1.0//EN
CALSCALE:GREGORIAN
METHOD:PUBLISH
X-ORIGINAL-URL:https://communityactionpartnership.com
X-WR-CALDESC:Events for National CAP
REFRESH-INTERVAL;VALUE=DURATION:PT1H
X-Robots-Tag:noindex
X-PUBLISHED-TTL:PT1H
BEGIN:VTIMEZONE
TZID:UTC
BEGIN:STANDARD
TZOFFSETFROM:+0000
TZOFFSETTO:+0000
TZNAME:UTC
DTSTART:20180101T000000
END:STANDARD
END:VTIMEZONE
BEGIN:VEVENT
DTSTART;TZID=UTC:20190320T080000
DTEND;TZID=UTC:20190322T170000
DTSTAMP:20260425T033019
CREATED:20190318T130113Z
LAST-MODIFIED:20190318T130113Z
UID:51787-1553068800-1553274000@communityactionpartnership.com
SUMMARY:NCAF 2019 Annual Conference
DESCRIPTION:Conference to be held in Washington\, DC at the Hyatt Regency Washington on Capitol Hill. This event provides the space and time for Community Action leaders to engage with lawmakers and participate in important national conversations. \nClick here to register.
URL:https://communityactionpartnership.com/event/ncaf-2019-annual-conference/
CATEGORIES:National Conventions
END:VEVENT
BEGIN:VEVENT
DTSTART;TZID=UTC:20190320T140000
DTEND;TZID=UTC:20190320T150000
DTSTAMP:20260425T033019
CREATED:20190211T195848Z
LAST-MODIFIED:20190314T211902Z
UID:50290-1553090400-1553094000@communityactionpartnership.com
SUMMARY:Community Action in the Social Enterprise Movement
DESCRIPTION:In this Webinar\, presenters Courtney Barthle and Dr. Kristin Abner will present on the Role of Community Action in the Social Enterprise Movement.  This presentation will orient participants to the concept of social enterprise\, discuss the research and current trends\, and explore the connections between social enterprise and community action.  The presentation will conclude with resources for additional information. \nRegister
URL:https://communityactionpartnership.com/event/social-enterprise-organizations-innovative-strategies-to-promote-self-sufficiency/
CATEGORIES:Webinars
END:VEVENT
END:VCALENDAR