BEGIN:VCALENDAR
VERSION:2.0
PRODID:-//National CAP - ECPv6.15.20//NONSGML v1.0//EN
CALSCALE:GREGORIAN
METHOD:PUBLISH
X-WR-CALNAME:National CAP
X-ORIGINAL-URL:https://communityactionpartnership.com
X-WR-CALDESC:Events for National CAP
REFRESH-INTERVAL;VALUE=DURATION:PT1H
X-Robots-Tag:noindex
X-PUBLISHED-TTL:PT1H
BEGIN:VTIMEZONE
TZID:UTC
BEGIN:STANDARD
TZOFFSETFROM:+0000
TZOFFSETTO:+0000
TZNAME:UTC
DTSTART:20180101T000000
END:STANDARD
END:VTIMEZONE
BEGIN:VEVENT
DTSTART;VALUE=DATE:20190115
DTEND;VALUE=DATE:20190119
DTSTAMP:20260425T110008
CREATED:20180511T172725Z
LAST-MODIFIED:20180925T201908Z
UID:2819-1547510400-1547855999@communityactionpartnership.com
SUMMARY:2019 MLTC Conference
DESCRIPTION:2019 Management and Leadership Training Conference\nThe 2019 Management and Leadership Training Conference (MLTC)\, will take place from January 16-18\, 2018\, in New Orleans\, LA at the Westin New Orleans Canal Place. Additionally\, the Pathways to Excellence Implementer Training will take place January 14-15\, 2019. Only a limited number of slots will be available for this pre-conference training. Slots will be available on a first come\, first served basis. The theme for this year’s event is Community Action: A Voice for Change. \nTo make a sleeping room reservation\, click here. The group rate of $159/night (single or double) will be available until December 17\, 2018. You can also make your sleeping room reservation by phone using either 1-(800)-881-1523 or (504) 566-7006 but please reference “Community Action Partnership Management and Leadership Training Conference” to receive the group rate. \nRegistration and Preliminary Agenda Forthcoming
URL:https://communityactionpartnership.com/event/2019-mltc-conference/
CATEGORIES:Annual Convention
END:VEVENT
END:VCALENDAR