BEGIN:VCALENDAR
VERSION:2.0
PRODID:-//National CAP - ECPv6.15.20//NONSGML v1.0//EN
CALSCALE:GREGORIAN
METHOD:PUBLISH
X-WR-CALNAME:National CAP
X-ORIGINAL-URL:https://communityactionpartnership.com
X-WR-CALDESC:Events for National CAP
REFRESH-INTERVAL;VALUE=DURATION:PT1H
X-Robots-Tag:noindex
X-PUBLISHED-TTL:PT1H
BEGIN:VTIMEZONE
TZID:UTC
BEGIN:STANDARD
TZOFFSETFROM:+0000
TZOFFSETTO:+0000
TZNAME:UTC
DTSTART:20170101T000000
END:STANDARD
END:VTIMEZONE
BEGIN:VEVENT
DTSTART;TZID=UTC:20181219T140000
DTEND;TZID=UTC:20181219T150000
DTSTAMP:20260425T124221
CREATED:20181127T171444Z
LAST-MODIFIED:20181127T171555Z
UID:11593-1545228000-1545231600@communityactionpartnership.com
SUMMARY:The Do’s and Don’ts of Designing Leveraged Programs
DESCRIPTION:Hosted by the Weatherization Leveraged Partnerships Project at the National Community Action Partnership\, hear from Ohio Partners for Affordable Energy on the Do’s and Don’ts designing programs that leverage the WAP. Winning leveraged dollars and designing coordinated programs should be a win-win for the Weatherization Network and potential partners\, yet making sure that this design works for your program can be a challenge. With over 30 years of experience in regulatory and legislative advocacy\, program design\, and program management\, the OPAE Energy Services team has critical tips and guidance for the Weatherization Network. \nRegister
URL:https://communityactionpartnership.com/event/the-dos-and-donts-of-designing-leveraged-programs/
CATEGORIES:Webinars
END:VEVENT
END:VCALENDAR