BEGIN:VCALENDAR
VERSION:2.0
PRODID:-//National CAP - ECPv6.15.20//NONSGML v1.0//EN
CALSCALE:GREGORIAN
METHOD:PUBLISH
X-WR-CALNAME:National CAP
X-ORIGINAL-URL:https://communityactionpartnership.com
X-WR-CALDESC:Events for National CAP
REFRESH-INTERVAL;VALUE=DURATION:PT1H
X-Robots-Tag:noindex
X-PUBLISHED-TTL:PT1H
BEGIN:VTIMEZONE
TZID:UTC
BEGIN:STANDARD
TZOFFSETFROM:+0000
TZOFFSETTO:+0000
TZNAME:UTC
DTSTART:20170101T000000
END:STANDARD
END:VTIMEZONE
BEGIN:VEVENT
DTSTART;TZID=UTC:20181205T140000
DTEND;TZID=UTC:20181205T153000
DTSTAMP:20260425T124222
CREATED:20181126T215445Z
LAST-MODIFIED:20181126T215445Z
UID:11462-1544018400-1544023800@communityactionpartnership.com
SUMMARY:2019 Learning Community Kick-Off Webinar
DESCRIPTION:Join the Learning Communities Resource Center on December 5th at 2pm ET to learn about the upcoming opportunities in 2019. The webinar will introduce the 2019 Learning Community Groups\, review the application process\, and share the exciting benefits of the Learning Community. \nRegister
URL:https://communityactionpartnership.com/event/2019-learning-community-kick-off-webinar/
CATEGORIES:Webinars
END:VEVENT
END:VCALENDAR