BEGIN:VCALENDAR
VERSION:2.0
PRODID:-//National CAP - ECPv6.15.20//NONSGML v1.0//EN
CALSCALE:GREGORIAN
METHOD:PUBLISH
X-ORIGINAL-URL:https://communityactionpartnership.com
X-WR-CALDESC:Events for National CAP
REFRESH-INTERVAL;VALUE=DURATION:PT1H
X-Robots-Tag:noindex
X-PUBLISHED-TTL:PT1H
BEGIN:VTIMEZONE
TZID:UTC
BEGIN:STANDARD
TZOFFSETFROM:+0000
TZOFFSETTO:+0000
TZNAME:UTC
DTSTART:20170101T000000
END:STANDARD
END:VTIMEZONE
BEGIN:VEVENT
DTSTART;TZID=UTC:20181010T140000
DTEND;TZID=UTC:20181010T153000
DTSTAMP:20260425T105951
CREATED:20180925T150947Z
LAST-MODIFIED:20180925T152835Z
UID:10443-1539180000-1539185400@communityactionpartnership.com
SUMMARY:Collective Impact:  Moving from Vision to Implementation
DESCRIPTION:October 10\, 2018 – 2pm ET \nForming a steering committee and creating a common agenda is hard work. However\, what happens after the vision has been agreed upon? How do you create an infrastructure that can make progress toward achieving the common agenda? In this workshop\, learn about the structure for implementing collective impact; discuss considerations for which working groups to create to pursue the common agenda\, and when to launch them; how to identify stakeholders best suited to serve on working groups; and how working groups can succeed in their first six months. \nPresenters:  Jennifer Splansky Juster and Robert Albright\, FSG Consulting \nProvided by the Learning Communities Resource Center at National CAP \nRegister
URL:https://communityactionpartnership.com/event/webinar-wednesday-2018-10-10/
CATEGORIES:Webinars
END:VEVENT
END:VCALENDAR