BEGIN:VCALENDAR
VERSION:2.0
PRODID:-//National CAP - ECPv6.15.20//NONSGML v1.0//EN
CALSCALE:GREGORIAN
METHOD:PUBLISH
X-WR-CALNAME:National CAP
X-ORIGINAL-URL:https://communityactionpartnership.com
X-WR-CALDESC:Events for National CAP
REFRESH-INTERVAL;VALUE=DURATION:PT1H
X-Robots-Tag:noindex
X-PUBLISHED-TTL:PT1H
BEGIN:VTIMEZONE
TZID:UTC
BEGIN:STANDARD
TZOFFSETFROM:+0000
TZOFFSETTO:+0000
TZNAME:UTC
DTSTART:20170101T000000
END:STANDARD
END:VTIMEZONE
BEGIN:VEVENT
DTSTART;TZID=UTC:20181003T140000
DTEND;TZID=UTC:20181003T153000
DTSTAMP:20260425T155209
CREATED:20180925T150947Z
LAST-MODIFIED:20180925T153256Z
UID:10441-1538575200-1538580600@communityactionpartnership.com
SUMMARY:Fall Update from DOE WAP Program Manager
DESCRIPTION:As we kick off Weatherization month\, listen in for an update from the Department of Energy (DOE) Weatherization Assistance Program (WAP) Manager Erica Burrin. Recently installed as the permanent Program Manager\, Ms. Burrin will provide an overview of recent efforts by the team to respond to feedback collected from the Network through the American Customer Satisfaction Survey and focus group style Solution Summits\, in addition to the funding outlook and processes for PY 2019. \nPresenter:  Erica Burrin\, DOE WAP Program Manager \nProvided by the Weatherization Leveraged Partnerships Project at National CAP \nRegister
URL:https://communityactionpartnership.com/event/webinar-wednesday/
CATEGORIES:Webinars
END:VEVENT
END:VCALENDAR