BEGIN:VCALENDAR
VERSION:2.0
PRODID:-//National CAP - ECPv6.15.20//NONSGML v1.0//EN
CALSCALE:GREGORIAN
METHOD:PUBLISH
X-WR-CALNAME:National CAP
X-ORIGINAL-URL:https://communityactionpartnership.com
X-WR-CALDESC:Events for National CAP
REFRESH-INTERVAL;VALUE=DURATION:PT1H
X-Robots-Tag:noindex
X-PUBLISHED-TTL:PT1H
BEGIN:VTIMEZONE
TZID:UTC
BEGIN:STANDARD
TZOFFSETFROM:+0000
TZOFFSETTO:+0000
TZNAME:UTC
DTSTART:20170101T000000
END:STANDARD
END:VTIMEZONE
BEGIN:VEVENT
DTSTART;TZID=UTC:20180912T140000
DTEND;TZID=UTC:20180912T153000
DTSTAMP:20260425T124221
CREATED:20180807T164724Z
LAST-MODIFIED:20180905T180341Z
UID:9244-1536760800-1536766200@communityactionpartnership.com
SUMMARY:Opportunity Youth in 2Gen Practice
DESCRIPTION:Traditionally\, the focus for alleviating generational poverty has been on either early childhood education or workforce education and training for parents\, while two‐generation approaches focus on both sets of needs. However\, most 2-Gen approaches focus on parents and young children\, leaving vulnerable adolescents – including the 6.7 million 16 to 24‐ year-olds who are neither working nor in school – without support. \nJoin us on September 12th to engage in a conversation on what steps Community Action Agencies can take serve this increasingly vulnerable population. Experts from ICF International will provide an overview of the challenges facing this demographic\, and provide insights and research to guide CAAs in their service delivery approaches. We will also hear from a field practitioner who will share their lessons learned in this space. \nRegister 
URL:https://communityactionpartnership.com/event/opportunity-youth-in-2gen-practice/
CATEGORIES:Webinars
END:VEVENT
BEGIN:VEVENT
DTSTART;TZID=UTC:20180913T143000
DTEND;TZID=UTC:20180913T153000
DTSTAMP:20260425T124221
CREATED:20180820T151831Z
LAST-MODIFIED:20180820T151831Z
UID:9672-1536849000-1536852600@communityactionpartnership.com
SUMMARY:Weatherization Day Kick Off Webinar
DESCRIPTION:Join CAP\, NASCSP\, and NCAF for a webinar in preparation for Weatherization Day 2018 on October 30th. It is a great opportunity to highlight the program and the impact it has on households around the country. This webinar is meant for local agency leaders\, communications staff\, and Weatherization teams as well as State WAP staff. Participants will hear guidance from NASCSP on developing a communications strategy\, learn about Weatherization resources from CAP’s leveraging project\, and tips and strategies for engaging policy makers around Weatherization day from the NCAF team. \nRegister \n 
URL:https://communityactionpartnership.com/event/weatherization-day-kick-off-webinar/
CATEGORIES:Webinars
END:VEVENT
BEGIN:VEVENT
DTSTART;TZID=UTC:20180913T143000
DTEND;TZID=UTC:20180913T153000
DTSTAMP:20260425T124221
CREATED:20180820T154342Z
LAST-MODIFIED:20180820T154342Z
UID:9677-1536849000-1536852600@communityactionpartnership.com
SUMMARY:Weatherization Day Kickoff Webinar
DESCRIPTION:Join CAP\, NASCSP\, and NCAF for a webinar in preparation for Weatherization Day 2018 on October 30th. It is a great opportunity to highlight the program and the impact it has on households around the country. This webinar is meant for local agency leaders\, communications staff\, and Weatherization teams as well as State WAP staff. Participants will hear guidance from NASCSP on developing a communications strategy\, learn about Weatherization resources from CAP’s leveraging project\, and tips and strategies for engaging policy makers around Weatherization day from the NCAF team. \nRegister
URL:https://communityactionpartnership.com/event/weatherization-day-kickoff-webinar/
CATEGORIES:Webinars
END:VEVENT
END:VCALENDAR