BEGIN:VCALENDAR
VERSION:2.0
PRODID:-//National CAP - ECPv6.15.20//NONSGML v1.0//EN
CALSCALE:GREGORIAN
METHOD:PUBLISH
X-WR-CALNAME:National CAP
X-ORIGINAL-URL:https://communityactionpartnership.com
X-WR-CALDESC:Events for National CAP
REFRESH-INTERVAL;VALUE=DURATION:PT1H
X-Robots-Tag:noindex
X-PUBLISHED-TTL:PT1H
BEGIN:VTIMEZONE
TZID:America/New_York
BEGIN:DAYLIGHT
TZOFFSETFROM:-0500
TZOFFSETTO:-0400
TZNAME:EDT
DTSTART:20170312T070000
END:DAYLIGHT
BEGIN:STANDARD
TZOFFSETFROM:-0400
TZOFFSETTO:-0500
TZNAME:EST
DTSTART:20171105T060000
END:STANDARD
BEGIN:DAYLIGHT
TZOFFSETFROM:-0500
TZOFFSETTO:-0400
TZNAME:EDT
DTSTART:20180311T070000
END:DAYLIGHT
BEGIN:STANDARD
TZOFFSETFROM:-0400
TZOFFSETTO:-0500
TZNAME:EST
DTSTART:20181104T060000
END:STANDARD
BEGIN:DAYLIGHT
TZOFFSETFROM:-0500
TZOFFSETTO:-0400
TZNAME:EDT
DTSTART:20190310T070000
END:DAYLIGHT
BEGIN:STANDARD
TZOFFSETFROM:-0400
TZOFFSETTO:-0500
TZNAME:EST
DTSTART:20191103T060000
END:STANDARD
END:VTIMEZONE
BEGIN:VTIMEZONE
TZID:UTC
BEGIN:STANDARD
TZOFFSETFROM:+0000
TZOFFSETTO:+0000
TZNAME:UTC
DTSTART:20160101T000000
END:STANDARD
END:VTIMEZONE
BEGIN:VEVENT
DTSTART;TZID=America/New_York:20180801T140000
DTEND;TZID=America/New_York:20180801T153000
DTSTAMP:20260421T004555
CREATED:20180718T225121Z
LAST-MODIFIED:20180718T225121Z
UID:8728-1533132000-1533137400@communityactionpartnership.com
SUMMARY:Planning for Service Integration: Using a Multidisciplinary Team Approach
DESCRIPTION:UC Davis Extension’s Center for Human Services will be sharing their expertise around service integration\, specifically on staffing models and team roles for integrating services.  Join this webinar to learn ways to work together more efficiently to provide better customer service and achieve improved agency-wide outcomes.  Topics such as team dynamics\, communication\, supervision of integrated teams\, avoiding duplication\, and overcoming barriers to coordination will be discussed.  UC Davis will also share lessons learned from their work throughout the state of California. \nPresenters:  Jane L Tabor-Bane & Jarred C Vermillion (Dianne Thompson\, Contributor) \nRegister
URL:https://communityactionpartnership.com/event/planning-for-service-integration-using-a-multidisciplinary-team-approach/
CATEGORIES:Webinars
END:VEVENT
BEGIN:VEVENT
DTSTART;TZID=UTC:20180729T140000
DTEND;TZID=UTC:20180729T153000
DTSTAMP:20260421T004555
CREATED:20180713T224310Z
LAST-MODIFIED:20180713T225156Z
UID:8194-1532872800-1532878200@communityactionpartnership.com
SUMMARY:Organizational Standards Peer-to-Peer Series: Program Level Data Collection and Analysis
DESCRIPTION:One of the hottest T/TA topics in our Network is how to collect and analyze program data to improve outcomes. Join staff from the Garrett County Community Action Committee to discuss their nationally recognized two-generation program. This webinar will focus on such critical details as what demographic data to collect and how to use it\, training and supporting staff to collect good data on customers\, setting up an assessment scale to track customer outcomes\, and how to use program data to improve performance and results for children and families. This is a great opportunity for front line staff\, program managers\, and agency leadership alike to learn how to get the most out of the data you collect. \nRegister
URL:https://communityactionpartnership.com/event/organizational-standards-peer-to-peer-series-program-level-data-collection-and-analysis/
CATEGORIES:Webinars
END:VEVENT
BEGIN:VEVENT
DTSTART;TZID=America/New_York:20180726T140000
DTEND;TZID=America/New_York:20180726T153000
DTSTAMP:20260421T004555
CREATED:20180713T223502Z
LAST-MODIFIED:20180713T223609Z
UID:8181-1532613600-1532619000@communityactionpartnership.com
SUMMARY:Organizational Standards Peer-to-Peer Series: Head Start Integration
DESCRIPTION:Head Start programs often comprise a significant part of a Community Action Agency’s budget and staff. This webinar focuses on practical “how to” strategies to ensure that agencies fully integrate their Head Start programs into the overall governance\, leadership\, and management of the organization. Join staff from several agencies to discuss topics that include how to build relationships between the board and Policy Council\, strengthen integration of Head Start with other services\, build a shared sense of mission across programs\, and improve collaboration on financial decision-making. This webinar is a must for any agency with a Head Start program – invite the whole leadership team to attend! \nRegister
URL:https://communityactionpartnership.com/event/organizational-standards-peer-to-peer-series-head-start-integration/
CATEGORIES:Webinars
END:VEVENT
BEGIN:VEVENT
DTSTART;TZID=America/New_York:20180725T140000
DTEND;TZID=America/New_York:20180725T153000
DTSTAMP:20260421T004555
CREATED:20180713T222534Z
LAST-MODIFIED:20180713T225533Z
UID:8168-1532527200-1532532600@communityactionpartnership.com
SUMMARY:Forging Successful Partnerships In Financial Empowerment
DESCRIPTION:Implementing a holistic financial empowerment approach can seem like an insurmountable goal if the expectation is that all services must be provided in-house. Attend this webinar on July 25th to learn more about how Community Action Agencies can leverage their position within their communities to bring important external stakeholders to the table. Experts from Prosperity Now will guide attendees in a discussion on the importance of partnerships in financial empowerment programs\, how to assess which programs might be a good fit for external referrals\, and how to maintain client engagement once they are being served by an external partner. \nRegister
URL:https://communityactionpartnership.com/event/forging-successful-partnerships-in-financial-empowerment/
CATEGORIES:Webinars
END:VEVENT
BEGIN:VEVENT
DTSTART;TZID=America/New_York:20180718T140000
DTEND;TZID=America/New_York:20180718T153000
DTSTAMP:20260421T004555
CREATED:20180713T225652Z
LAST-MODIFIED:20180713T225652Z
UID:8222-1531922400-1531927800@communityactionpartnership.com
SUMMARY:Collective Impact Roles & Developing your Common Agenda
DESCRIPTION:With so many different stakeholders at the table\, clearly defining roles and coming to consensus over the key issues and how to approach them can seem like a daunting task. This webinar will explore the range of roles people can play in a collective impact collaborative. We will also discuss the key components of a common agenda that can lay the groundwork for the collaborative’s work going forward. \nRegister
URL:https://communityactionpartnership.com/event/collective-impact-roles-developing-your-common-agenda/
CATEGORIES:Webinars
END:VEVENT
BEGIN:VEVENT
DTSTART;TZID=America/New_York:20180717T140000
DTEND;TZID=America/New_York:20180717T153000
DTSTAMP:20260421T004555
CREATED:20180713T222914Z
LAST-MODIFIED:20180713T223126Z
UID:8171-1531836000-1531841400@communityactionpartnership.com
SUMMARY:Organizational Standards Peer-to-Peer Series: Performance Management and ROMA
DESCRIPTION:Join staff from the United Planning Organization\, the newest Award for Excellence winner\, to discuss their performance management system that has been recognized as a best practice by a senior team of Pathways to Excellence Peer Reviewers. Topics discussed will include how UPO uses their strategic plan to set agency-wide outcome goals\, a detailed look at their performance scorecard used to track progress across the agency\, and how their performance management team uses program data to help staff improve results. Don’t miss this engaging “how to” discussion with an agency recognized for its Excellence in management and operations and how it uses the ROMA framework to improve outcomes. \nRegister
URL:https://communityactionpartnership.com/event/organizational-standards-peer-to-peer-series-performance-management-and-roma/
CATEGORIES:Webinars
END:VEVENT
BEGIN:VEVENT
DTSTART;TZID=UTC:20180105T080000
DTEND;TZID=UTC:20180105T170000
DTSTAMP:20260421T004555
CREATED:20171207T182743Z
LAST-MODIFIED:20171207T194425Z
UID:1610-1515139200-1515171600@communityactionpartnership.com
SUMMARY:Event 03
DESCRIPTION:
URL:https://communityactionpartnership.com/event/event-03/
LOCATION:IES Meeting\, 5401 Business Park South Ste. 108\, Bakersfield\, CA\, 93309\, United States
CATEGORIES:CAP Events,National Partner Events
ATTACH;FMTTYPE=image/jpeg:https://communityactionpartnership.com/wp-content/uploads/2017/10/iStock_81812617_LARGE.jpg
GEO:35.3582107;-119.0595103
X-APPLE-STRUCTURED-LOCATION;VALUE=URI;X-ADDRESS=IES Meeting 5401 Business Park South Ste. 108 Bakersfield CA 93309 United States;X-APPLE-RADIUS=500;X-TITLE=5401 Business Park South Ste. 108:geo:-119.0595103,35.3582107
END:VEVENT
BEGIN:VEVENT
DTSTART;TZID=UTC:20180101T080000
DTEND;TZID=UTC:20180101T170000
DTSTAMP:20260421T004555
CREATED:20171207T181809Z
LAST-MODIFIED:20171207T194418Z
UID:1600-1514793600-1514826000@communityactionpartnership.com
SUMMARY:Event 02
DESCRIPTION:
URL:https://communityactionpartnership.com/event/event-02/
LOCATION:IES Meeting\, 5401 Business Park South Ste. 108\, Bakersfield\, CA\, 93309\, United States
CATEGORIES:CAP Events,National Partner Events
ATTACH;FMTTYPE=image/jpeg:https://communityactionpartnership.com/wp-content/uploads/2017/11/iStock-611192994.jpg
ORGANIZER;CN="Cyberschool Inc":MAILTO:mattaran@iescentral.com
GEO:35.3582107;-119.0595103
X-APPLE-STRUCTURED-LOCATION;VALUE=URI;X-ADDRESS=IES Meeting 5401 Business Park South Ste. 108 Bakersfield CA 93309 United States;X-APPLE-RADIUS=500;X-TITLE=5401 Business Park South Ste. 108:geo:-119.0595103,35.3582107
END:VEVENT
BEGIN:VEVENT
DTSTART;TZID=UTC:20171231T080000
DTEND;TZID=UTC:20171231T170000
DTSTAMP:20260421T004555
CREATED:20171130T001655Z
LAST-MODIFIED:20171207T194443Z
UID:1348-1514707200-1514739600@communityactionpartnership.com
SUMMARY:Event 01
DESCRIPTION:
URL:https://communityactionpartnership.com/event/event-01/
LOCATION:IES Meeting\, 5401 Business Park South Ste. 108\, Bakersfield\, CA\, 93309\, United States
CATEGORIES:CAP Events,National Partner Events
ATTACH;FMTTYPE=image/jpeg:https://communityactionpartnership.com/wp-content/uploads/2017/11/iStock_000008467293_Medium.jpg
GEO:35.3582107;-119.0595103
X-APPLE-STRUCTURED-LOCATION;VALUE=URI;X-ADDRESS=IES Meeting 5401 Business Park South Ste. 108 Bakersfield CA 93309 United States;X-APPLE-RADIUS=500;X-TITLE=5401 Business Park South Ste. 108:geo:-119.0595103,35.3582107
END:VEVENT
END:VCALENDAR