BEGIN:VCALENDAR
VERSION:2.0
PRODID:-//National CAP - ECPv6.15.20//NONSGML v1.0//EN
CALSCALE:GREGORIAN
METHOD:PUBLISH
X-ORIGINAL-URL:https://communityactionpartnership.com
X-WR-CALDESC:Events for National CAP
REFRESH-INTERVAL;VALUE=DURATION:PT1H
X-Robots-Tag:noindex
X-PUBLISHED-TTL:PT1H
BEGIN:VTIMEZONE
TZID:Pacific/Easter
BEGIN:STANDARD
TZOFFSETFROM:-0500
TZOFFSETTO:-0600
TZNAME:-06
DTSTART:20210404T030000
END:STANDARD
BEGIN:DAYLIGHT
TZOFFSETFROM:-0600
TZOFFSETTO:-0500
TZNAME:-05
DTSTART:20210905T040000
END:DAYLIGHT
BEGIN:STANDARD
TZOFFSETFROM:-0500
TZOFFSETTO:-0600
TZNAME:-06
DTSTART:20220403T030000
END:STANDARD
BEGIN:DAYLIGHT
TZOFFSETFROM:-0600
TZOFFSETTO:-0500
TZNAME:-05
DTSTART:20220911T040000
END:DAYLIGHT
BEGIN:STANDARD
TZOFFSETFROM:-0500
TZOFFSETTO:-0600
TZNAME:-06
DTSTART:20230402T030000
END:STANDARD
BEGIN:DAYLIGHT
TZOFFSETFROM:-0600
TZOFFSETTO:-0500
TZNAME:-05
DTSTART:20230903T040000
END:DAYLIGHT
END:VTIMEZONE
BEGIN:VTIMEZONE
TZID:UTC
BEGIN:STANDARD
TZOFFSETFROM:+0000
TZOFFSETTO:+0000
TZNAME:UTC
DTSTART:20210101T000000
END:STANDARD
END:VTIMEZONE
BEGIN:VEVENT
DTSTART;TZID=Pacific/Easter:20220405T140000
DTEND;TZID=Pacific/Easter:20220405T150000
DTSTAMP:20260421T185821
CREATED:20220211T185722Z
LAST-MODIFIED:20220310T125447Z
UID:71252-1649167200-1649170800@communityactionpartnership.com
SUMMARY:Child Tax Credit (CTC) Office Hours
DESCRIPTION:TIME: 2 PM ET | 1 PM CT | 12 PM MT | 11 AM PT \nEVENT DESCRIPTION: Do you have questions about the Child Tax Credit\, Earned Income Tax Credit or VITA sites? Do you have customers who need information about how to get their refunds? Are you working with a family who has a very specific issue filing their taxes and you need some help finding a solution? If so\, here is your chance to get answers! NCAP is hosting “office hours” where you can join our staff and the experts from the Center on Budget and Policy Priorities (CBPP) to get the answers you and your customers need. \nClick here to register.
URL:https://communityactionpartnership.com/event/child-tax-credit-ctc-office-hours-4/
CATEGORIES:Webinars
END:VEVENT
BEGIN:VEVENT
DTSTART;TZID=UTC:20220412T140000
DTEND;TZID=UTC:20220412T150000
DTSTAMP:20260421T185821
CREATED:20220408T183922Z
LAST-MODIFIED:20220408T183922Z
UID:72032-1649772000-1649775600@communityactionpartnership.com
SUMMARY:Community Action Month Toolkit Release Webinar
DESCRIPTION:Please join us for the release of the 2022 Community Action Month Toolkit! We’ll walk through the contents of the toolkit\, how to use it\, and highlight what’s new this year. \nClick here to register.
URL:https://communityactionpartnership.com/event/community-action-month-toolkit-release-webinar-3/
CATEGORIES:Webinars
END:VEVENT
BEGIN:VEVENT
DTSTART;TZID=Pacific/Easter:20220413T140000
DTEND;TZID=Pacific/Easter:20220413T150000
DTSTAMP:20260421T185821
CREATED:20220301T212849Z
LAST-MODIFIED:20220310T131905Z
UID:71518-1649858400-1649862000@communityactionpartnership.com
SUMMARY:Forging a Pathway to Excellence for your Community Action Agency
DESCRIPTION:TIME: 2 PM ET | 1 PM CT | 12 PM MT | 11 AM PT \nEVENT DESCRIPTION: The last two years have reminded us why every community needs and deserves an excellent Community Action Agency. But how do you get there? How do you move beyond compliance and towards excellence? This webinar will discuss steps your agency can take to begin planning your excellence journey\, including how to prepare your agency for the next Pathways to Excellence cohort enrollment scheduled for early summer 2022. \nClick here to register.
URL:https://communityactionpartnership.com/event/forging-a-pathway-to-excellence-for-your-community-action-agency/
CATEGORIES:Webinars
END:VEVENT
BEGIN:VEVENT
DTSTART;TZID=UTC:20220414T123000
DTEND;TZID=UTC:20220414T133000
DTSTAMP:20260421T185821
CREATED:20220408T112802Z
LAST-MODIFIED:20220408T112802Z
UID:72014-1649939400-1649943000@communityactionpartnership.com
SUMMARY:Achieving Generative Leadership through the Human Services Value Curve
DESCRIPTION:TIME: 12:30 PM ET | 11:30 AM CT | 10:30 AM MT | 9:30 AM PT \nDESCRIPTION: Join us for this deep dive to learn how the Human Services Value Curve inspires and equips leaders and policymakers of health and human services organizations\, systems\, and communities to envision and create a path for achieving better and more equitable outcomes for individuals\, families\, and communities\, as well as improve and accelerate human services social and economic value for society. \nClick here to register.
URL:https://communityactionpartnership.com/event/achieving-generative-leadership-through-the-human-services-value-curve/
CATEGORIES:Webinars
END:VEVENT
BEGIN:VEVENT
DTSTART;TZID=UTC:20220414T140000
DTEND;TZID=UTC:20220414T150000
DTSTAMP:20260421T185821
CREATED:20220325T192031Z
LAST-MODIFIED:20220325T192031Z
UID:71906-1649944800-1649948400@communityactionpartnership.com
SUMMARY:CSBG CARES Spending Network Conversation with OCS\, NCAP\, NASCSP\, CAPLAW\, AND NCAF
DESCRIPTION:TIME: 2 PM ET | 1 PM CT | 12 PM MT | 11 AM PT \nDESCRIPTION: CARES Act Supplemental CSBG funds have been critical to supporting family and community needs during the COVID-19 pandemic. In most communities\, these funds will need to be fully expended within the next 6 months. With the impacts of the pandemic still very present and uncertainty about additional funding\, it is critical that the Community Action Network use any remaining CARES Act Supplemental funds as effectively as possible. Join Community Action’s National Partners – NCAP\, NASCSP\, CAPLAW and NCAF – as well as representatives from the federal Office of Community Services (OCS) to learn about a variety of effective strategies that CAAs have used and can continue to implement to protect vulnerable families. \nClick here to register.
URL:https://communityactionpartnership.com/event/csbg-cares-spending-network-conversation-with-ocs-ncap-nascsp-caplaw-and-ncaf/
CATEGORIES:Webinars
END:VEVENT
BEGIN:VEVENT
DTSTART;TZID=UTC:20220418T140000
DTEND;TZID=UTC:20220418T150000
DTSTAMP:20260421T185821
CREATED:20220415T183632Z
LAST-MODIFIED:20220416T133801Z
UID:72108-1650290400-1650294000@communityactionpartnership.com
SUMMARY:CARES CSBG Spending Office Hours
DESCRIPTION:MONDAY\, APRIL 18\, at 2 ET | 1 CT | 12 MT | 11 PT \nClick here to register.
URL:https://communityactionpartnership.com/event/cares-csbg-spending-office-hours/
CATEGORIES:Webinars
END:VEVENT
BEGIN:VEVENT
DTSTART;TZID=UTC:20220420T140000
DTEND;TZID=UTC:20220420T150000
DTSTAMP:20260421T185821
CREATED:20220413T155515Z
LAST-MODIFIED:20220413T155515Z
UID:72089-1650463200-1650466800@communityactionpartnership.com
SUMMARY:Housing Expansion Opportunities and Homeless Prevention: Rapid Re-Housing — Onboarding for New Providers
DESCRIPTION:WEDNESDAY\, APRIL 20\, at 2 PM ET | 1 PM CT | 12 PM MT | 11 AM PT\nThis introductory webinar will provide an overview of Rapid Re-housing and its role in developing an effective community-wide response to homelessness. Participants will explore the role that Community Action Agencies can play in leading\, supporting\, and/or augmenting Rapid Re-housing in the jurisdictions they serve. Participants will also explore strategies to increase housing placements while rental markets continue to tighten. \nClick here to register.
URL:https://communityactionpartnership.com/event/housing-expansion-opportunities-and-homeless-prevention-rapid-re-housing-onboarding-for-new-providers/
CATEGORIES:Webinars
END:VEVENT
BEGIN:VEVENT
DTSTART;TZID=UTC:20220425T150000
DTEND;TZID=UTC:20220425T160000
DTSTAMP:20260421T185821
CREATED:20220421T170555Z
LAST-MODIFIED:20220421T170555Z
UID:72150-1650898800-1650902400@communityactionpartnership.com
SUMMARY:CARES CSBG Spending Office Hours
DESCRIPTION:MONDAY\, APRIL 25\, at 3 ET | 2 ET | 1 CT | 12 MT \nClick here to register.
URL:https://communityactionpartnership.com/event/cares-csbg-spending-office-hours-2/
CATEGORIES:Webinars
END:VEVENT
BEGIN:VEVENT
DTSTART;TZID=UTC:20220428T123000
DTEND;TZID=UTC:20220428T133000
DTSTAMP:20260421T185821
CREATED:20220408T113100Z
LAST-MODIFIED:20220408T113100Z
UID:72016-1651149000-1651152600@communityactionpartnership.com
SUMMARY:Achieving Generative Leadership through the Human Services Value Curve
DESCRIPTION:TIME: 12:30 PM ET | 11:30 AM CT | 10:30 AM MT | 9:30 AM PT \nDESCRIPTION: Join us for this deep dive to learn how the Human Services Value Curve inspires and equips leaders and policymakers of health and human services organizations\, systems\, and communities to envision and create a path for achieving better and more equitable outcomes for individuals\, families\, and communities\, as well as improve and accelerate human services social and economic value for society. \nClick here to register.
URL:https://communityactionpartnership.com/event/achieving-generative-leadership-through-the-human-services-value-curve-2/
CATEGORIES:Webinars
END:VEVENT
END:VCALENDAR